BEGIN:VCALENDAR
VERSION:2.0
PRODID:-//The Gnoshery - ECPv6.15.20//NONSGML v1.0//EN
CALSCALE:GREGORIAN
METHOD:PUBLISH
X-WR-CALNAME:The Gnoshery
X-ORIGINAL-URL:https://the-gnoshery.com
X-WR-CALDESC:Events for The Gnoshery
REFRESH-INTERVAL;VALUE=DURATION:PT1H
X-Robots-Tag:noindex
X-PUBLISHED-TTL:PT1H
BEGIN:VTIMEZONE
TZID:America/Chicago
BEGIN:DAYLIGHT
TZOFFSETFROM:-0600
TZOFFSETTO:-0500
TZNAME:CDT
DTSTART:20280312T080000
END:DAYLIGHT
BEGIN:STANDARD
TZOFFSETFROM:-0500
TZOFFSETTO:-0600
TZNAME:CST
DTSTART:20281105T070000
END:STANDARD
BEGIN:DAYLIGHT
TZOFFSETFROM:-0600
TZOFFSETTO:-0500
TZNAME:CDT
DTSTART:20290311T080000
END:DAYLIGHT
BEGIN:STANDARD
TZOFFSETFROM:-0500
TZOFFSETTO:-0600
TZNAME:CST
DTSTART:20291104T070000
END:STANDARD
BEGIN:DAYLIGHT
TZOFFSETFROM:-0600
TZOFFSETTO:-0500
TZNAME:CDT
DTSTART:20300310T080000
END:DAYLIGHT
BEGIN:STANDARD
TZOFFSETFROM:-0500
TZOFFSETTO:-0600
TZNAME:CST
DTSTART:20301103T070000
END:STANDARD
END:VTIMEZONE
BEGIN:VEVENT
DTSTART;TZID=America/Chicago:20290205T180000
DTEND;TZID=America/Chicago:20290205T210000
DTSTAMP:20260424T025553
CREATED:20260410T194413Z
LAST-MODIFIED:20260410T194545Z
UID:10008476-1865008800-1865019600@the-gnoshery.com
SUMMARY:Yu-Gi-Oh Nights!
DESCRIPTION:It’s time to d-d-d-duel!!!\n\nIt’s a Monday fun-day tournament!\n\n3 rounds win a match win an OTS pack. If you haven’t received an OTS pack by the end of the event\, you get one for coming and playing!\n\n\n$5 per player. \n\nLearn more HERE
URL:https://the-gnoshery.com/event/yu-gi-oh-nights/2029-02-05/
LOCATION:The Gnoshery\, 23 N. 3rd Ave\, STURGEON BAY\, WI\, 54235\, United States
CATEGORIES:Casual Play,Yu-gi-oh
ATTACH;FMTTYPE=image/png:https://the-gnoshery.com/wp-content/uploads/2026/04/SBy-Commander-1.png
END:VEVENT
BEGIN:VEVENT
DTSTART;TZID=America/Chicago:20290212T180000
DTEND;TZID=America/Chicago:20290212T210000
DTSTAMP:20260424T025553
CREATED:20260410T194413Z
LAST-MODIFIED:20260410T194545Z
UID:10008477-1865613600-1865624400@the-gnoshery.com
SUMMARY:Yu-Gi-Oh Nights!
DESCRIPTION:It’s time to d-d-d-duel!!!\n\nIt’s a Monday fun-day tournament!\n\n3 rounds win a match win an OTS pack. If you haven’t received an OTS pack by the end of the event\, you get one for coming and playing!\n\n\n$5 per player. \n\nLearn more HERE
URL:https://the-gnoshery.com/event/yu-gi-oh-nights/2029-02-12/
LOCATION:The Gnoshery\, 23 N. 3rd Ave\, STURGEON BAY\, WI\, 54235\, United States
CATEGORIES:Casual Play,Yu-gi-oh
ATTACH;FMTTYPE=image/png:https://the-gnoshery.com/wp-content/uploads/2026/04/SBy-Commander-1.png
END:VEVENT
BEGIN:VEVENT
DTSTART;TZID=America/Chicago:20290219T180000
DTEND;TZID=America/Chicago:20290219T210000
DTSTAMP:20260424T025553
CREATED:20260410T194413Z
LAST-MODIFIED:20260410T194545Z
UID:10008478-1866218400-1866229200@the-gnoshery.com
SUMMARY:Yu-Gi-Oh Nights!
DESCRIPTION:It’s time to d-d-d-duel!!!\n\nIt’s a Monday fun-day tournament!\n\n3 rounds win a match win an OTS pack. If you haven’t received an OTS pack by the end of the event\, you get one for coming and playing!\n\n\n$5 per player. \n\nLearn more HERE
URL:https://the-gnoshery.com/event/yu-gi-oh-nights/2029-02-19/
LOCATION:The Gnoshery\, 23 N. 3rd Ave\, STURGEON BAY\, WI\, 54235\, United States
CATEGORIES:Casual Play,Yu-gi-oh
ATTACH;FMTTYPE=image/png:https://the-gnoshery.com/wp-content/uploads/2026/04/SBy-Commander-1.png
END:VEVENT
BEGIN:VEVENT
DTSTART;TZID=America/Chicago:20290226T180000
DTEND;TZID=America/Chicago:20290226T210000
DTSTAMP:20260424T025553
CREATED:20260410T194413Z
LAST-MODIFIED:20260410T194545Z
UID:10008479-1866823200-1866834000@the-gnoshery.com
SUMMARY:Yu-Gi-Oh Nights!
DESCRIPTION:It’s time to d-d-d-duel!!!\n\nIt’s a Monday fun-day tournament!\n\n3 rounds win a match win an OTS pack. If you haven’t received an OTS pack by the end of the event\, you get one for coming and playing!\n\n\n$5 per player. \n\nLearn more HERE
URL:https://the-gnoshery.com/event/yu-gi-oh-nights/2029-02-26/
LOCATION:The Gnoshery\, 23 N. 3rd Ave\, STURGEON BAY\, WI\, 54235\, United States
CATEGORIES:Casual Play,Yu-gi-oh
ATTACH;FMTTYPE=image/png:https://the-gnoshery.com/wp-content/uploads/2026/04/SBy-Commander-1.png
END:VEVENT
END:VCALENDAR