BEGIN:VCALENDAR
VERSION:2.0
PRODID:-//The Gnoshery - ECPv6.15.20//NONSGML v1.0//EN
CALSCALE:GREGORIAN
METHOD:PUBLISH
X-WR-CALNAME:The Gnoshery
X-ORIGINAL-URL:https://the-gnoshery.com
X-WR-CALDESC:Events for The Gnoshery
REFRESH-INTERVAL;VALUE=DURATION:PT1H
X-Robots-Tag:noindex
X-PUBLISHED-TTL:PT1H
BEGIN:VTIMEZONE
TZID:America/Chicago
BEGIN:DAYLIGHT
TZOFFSETFROM:-0600
TZOFFSETTO:-0500
TZNAME:CDT
DTSTART:20270314T080000
END:DAYLIGHT
BEGIN:STANDARD
TZOFFSETFROM:-0500
TZOFFSETTO:-0600
TZNAME:CST
DTSTART:20271107T070000
END:STANDARD
BEGIN:DAYLIGHT
TZOFFSETFROM:-0600
TZOFFSETTO:-0500
TZNAME:CDT
DTSTART:20280312T080000
END:DAYLIGHT
BEGIN:STANDARD
TZOFFSETFROM:-0500
TZOFFSETTO:-0600
TZNAME:CST
DTSTART:20281105T070000
END:STANDARD
BEGIN:DAYLIGHT
TZOFFSETFROM:-0600
TZOFFSETTO:-0500
TZNAME:CDT
DTSTART:20290311T080000
END:DAYLIGHT
BEGIN:STANDARD
TZOFFSETFROM:-0500
TZOFFSETTO:-0600
TZNAME:CST
DTSTART:20291104T070000
END:STANDARD
END:VTIMEZONE
BEGIN:VEVENT
DTSTART;TZID=America/Chicago:20281106T180000
DTEND;TZID=America/Chicago:20281106T210000
DTSTAMP:20260423T043714
CREATED:20260410T194413Z
LAST-MODIFIED:20260410T194545Z
UID:10008463-1857146400-1857157200@the-gnoshery.com
SUMMARY:Yu-Gi-Oh Nights!
DESCRIPTION:It’s time to d-d-d-duel!!!\n\nIt’s a Monday fun-day tournament!\n\n3 rounds win a match win an OTS pack. If you haven’t received an OTS pack by the end of the event\, you get one for coming and playing!\n\n\n$5 per player. \n\nLearn more HERE
URL:https://the-gnoshery.com/event/yu-gi-oh-nights/2028-11-06/
LOCATION:The Gnoshery\, 23 N. 3rd Ave\, STURGEON BAY\, WI\, 54235\, United States
CATEGORIES:Casual Play,Yu-gi-oh
ATTACH;FMTTYPE=image/png:https://the-gnoshery.com/wp-content/uploads/2026/04/SBy-Commander-1.png
END:VEVENT
BEGIN:VEVENT
DTSTART;TZID=America/Chicago:20281113T180000
DTEND;TZID=America/Chicago:20281113T210000
DTSTAMP:20260423T043714
CREATED:20260410T194413Z
LAST-MODIFIED:20260410T194545Z
UID:10008464-1857751200-1857762000@the-gnoshery.com
SUMMARY:Yu-Gi-Oh Nights!
DESCRIPTION:It’s time to d-d-d-duel!!!\n\nIt’s a Monday fun-day tournament!\n\n3 rounds win a match win an OTS pack. If you haven’t received an OTS pack by the end of the event\, you get one for coming and playing!\n\n\n$5 per player. \n\nLearn more HERE
URL:https://the-gnoshery.com/event/yu-gi-oh-nights/2028-11-13/
LOCATION:The Gnoshery\, 23 N. 3rd Ave\, STURGEON BAY\, WI\, 54235\, United States
CATEGORIES:Casual Play,Yu-gi-oh
ATTACH;FMTTYPE=image/png:https://the-gnoshery.com/wp-content/uploads/2026/04/SBy-Commander-1.png
END:VEVENT
BEGIN:VEVENT
DTSTART;TZID=America/Chicago:20281120T180000
DTEND;TZID=America/Chicago:20281120T210000
DTSTAMP:20260423T043714
CREATED:20260410T194413Z
LAST-MODIFIED:20260410T194545Z
UID:10008465-1858356000-1858366800@the-gnoshery.com
SUMMARY:Yu-Gi-Oh Nights!
DESCRIPTION:It’s time to d-d-d-duel!!!\n\nIt’s a Monday fun-day tournament!\n\n3 rounds win a match win an OTS pack. If you haven’t received an OTS pack by the end of the event\, you get one for coming and playing!\n\n\n$5 per player. \n\nLearn more HERE
URL:https://the-gnoshery.com/event/yu-gi-oh-nights/2028-11-20/
LOCATION:The Gnoshery\, 23 N. 3rd Ave\, STURGEON BAY\, WI\, 54235\, United States
CATEGORIES:Casual Play,Yu-gi-oh
ATTACH;FMTTYPE=image/png:https://the-gnoshery.com/wp-content/uploads/2026/04/SBy-Commander-1.png
END:VEVENT
BEGIN:VEVENT
DTSTART;TZID=America/Chicago:20281127T180000
DTEND;TZID=America/Chicago:20281127T210000
DTSTAMP:20260423T043714
CREATED:20260410T194413Z
LAST-MODIFIED:20260410T194545Z
UID:10008466-1858960800-1858971600@the-gnoshery.com
SUMMARY:Yu-Gi-Oh Nights!
DESCRIPTION:It’s time to d-d-d-duel!!!\n\nIt’s a Monday fun-day tournament!\n\n3 rounds win a match win an OTS pack. If you haven’t received an OTS pack by the end of the event\, you get one for coming and playing!\n\n\n$5 per player. \n\nLearn more HERE
URL:https://the-gnoshery.com/event/yu-gi-oh-nights/2028-11-27/
LOCATION:The Gnoshery\, 23 N. 3rd Ave\, STURGEON BAY\, WI\, 54235\, United States
CATEGORIES:Casual Play,Yu-gi-oh
ATTACH;FMTTYPE=image/png:https://the-gnoshery.com/wp-content/uploads/2026/04/SBy-Commander-1.png
END:VEVENT
END:VCALENDAR