BEGIN:VCALENDAR
VERSION:2.0
PRODID:-//The Gnoshery - ECPv6.15.20//NONSGML v1.0//EN
CALSCALE:GREGORIAN
METHOD:PUBLISH
X-ORIGINAL-URL:https://the-gnoshery.com
X-WR-CALDESC:Events for The Gnoshery
REFRESH-INTERVAL;VALUE=DURATION:PT1H
X-Robots-Tag:noindex
X-PUBLISHED-TTL:PT1H
BEGIN:VTIMEZONE
TZID:America/Chicago
BEGIN:DAYLIGHT
TZOFFSETFROM:-0600
TZOFFSETTO:-0500
TZNAME:CDT
DTSTART:20260308T080000
END:DAYLIGHT
BEGIN:STANDARD
TZOFFSETFROM:-0500
TZOFFSETTO:-0600
TZNAME:CST
DTSTART:20261101T070000
END:STANDARD
BEGIN:DAYLIGHT
TZOFFSETFROM:-0600
TZOFFSETTO:-0500
TZNAME:CDT
DTSTART:20270314T080000
END:DAYLIGHT
BEGIN:STANDARD
TZOFFSETFROM:-0500
TZOFFSETTO:-0600
TZNAME:CST
DTSTART:20271107T070000
END:STANDARD
BEGIN:DAYLIGHT
TZOFFSETFROM:-0600
TZOFFSETTO:-0500
TZNAME:CDT
DTSTART:20280312T080000
END:DAYLIGHT
BEGIN:STANDARD
TZOFFSETFROM:-0500
TZOFFSETTO:-0600
TZNAME:CST
DTSTART:20281105T070000
END:STANDARD
END:VTIMEZONE
BEGIN:VEVENT
DTSTART;TZID=America/Chicago:20270705T180000
DTEND;TZID=America/Chicago:20270705T210000
DTSTAMP:20260420T030127
CREATED:20260410T194413Z
LAST-MODIFIED:20260410T194545Z
UID:10008393-1814810400-1814821200@the-gnoshery.com
SUMMARY:Yu-Gi-Oh Nights!
DESCRIPTION:It’s time to d-d-d-duel!!!\n\nIt’s a Monday fun-day tournament!\n\n3 rounds win a match win an OTS pack. If you haven’t received an OTS pack by the end of the event\, you get one for coming and playing!\n\n\n$5 per player. \n\nLearn more HERE
URL:https://the-gnoshery.com/event/yu-gi-oh-nights/2027-07-05/
LOCATION:The Gnoshery\, 23 N. 3rd Ave\, STURGEON BAY\, WI\, 54235\, United States
CATEGORIES:Casual Play,Yu-gi-oh
ATTACH;FMTTYPE=image/png:https://the-gnoshery.com/wp-content/uploads/2026/04/SBy-Commander-1.png
END:VEVENT
BEGIN:VEVENT
DTSTART;TZID=America/Chicago:20270712T180000
DTEND;TZID=America/Chicago:20270712T210000
DTSTAMP:20260420T030127
CREATED:20260410T194413Z
LAST-MODIFIED:20260410T194545Z
UID:10008394-1815415200-1815426000@the-gnoshery.com
SUMMARY:Yu-Gi-Oh Nights!
DESCRIPTION:It’s time to d-d-d-duel!!!\n\nIt’s a Monday fun-day tournament!\n\n3 rounds win a match win an OTS pack. If you haven’t received an OTS pack by the end of the event\, you get one for coming and playing!\n\n\n$5 per player. \n\nLearn more HERE
URL:https://the-gnoshery.com/event/yu-gi-oh-nights/2027-07-12/
LOCATION:The Gnoshery\, 23 N. 3rd Ave\, STURGEON BAY\, WI\, 54235\, United States
CATEGORIES:Casual Play,Yu-gi-oh
ATTACH;FMTTYPE=image/png:https://the-gnoshery.com/wp-content/uploads/2026/04/SBy-Commander-1.png
END:VEVENT
BEGIN:VEVENT
DTSTART;TZID=America/Chicago:20270719T180000
DTEND;TZID=America/Chicago:20270719T210000
DTSTAMP:20260420T030127
CREATED:20260410T194413Z
LAST-MODIFIED:20260410T194545Z
UID:10008395-1816020000-1816030800@the-gnoshery.com
SUMMARY:Yu-Gi-Oh Nights!
DESCRIPTION:It’s time to d-d-d-duel!!!\n\nIt’s a Monday fun-day tournament!\n\n3 rounds win a match win an OTS pack. If you haven’t received an OTS pack by the end of the event\, you get one for coming and playing!\n\n\n$5 per player. \n\nLearn more HERE
URL:https://the-gnoshery.com/event/yu-gi-oh-nights/2027-07-19/
LOCATION:The Gnoshery\, 23 N. 3rd Ave\, STURGEON BAY\, WI\, 54235\, United States
CATEGORIES:Casual Play,Yu-gi-oh
ATTACH;FMTTYPE=image/png:https://the-gnoshery.com/wp-content/uploads/2026/04/SBy-Commander-1.png
END:VEVENT
BEGIN:VEVENT
DTSTART;TZID=America/Chicago:20270726T180000
DTEND;TZID=America/Chicago:20270726T210000
DTSTAMP:20260420T030127
CREATED:20260410T194413Z
LAST-MODIFIED:20260410T194545Z
UID:10008396-1816624800-1816635600@the-gnoshery.com
SUMMARY:Yu-Gi-Oh Nights!
DESCRIPTION:It’s time to d-d-d-duel!!!\n\nIt’s a Monday fun-day tournament!\n\n3 rounds win a match win an OTS pack. If you haven’t received an OTS pack by the end of the event\, you get one for coming and playing!\n\n\n$5 per player. \n\nLearn more HERE
URL:https://the-gnoshery.com/event/yu-gi-oh-nights/2027-07-26/
LOCATION:The Gnoshery\, 23 N. 3rd Ave\, STURGEON BAY\, WI\, 54235\, United States
CATEGORIES:Casual Play,Yu-gi-oh
ATTACH;FMTTYPE=image/png:https://the-gnoshery.com/wp-content/uploads/2026/04/SBy-Commander-1.png
END:VEVENT
END:VCALENDAR