BEGIN:VCALENDAR
VERSION:2.0
PRODID:-//The Gnoshery - ECPv6.15.20//NONSGML v1.0//EN
CALSCALE:GREGORIAN
METHOD:PUBLISH
X-WR-CALNAME:The Gnoshery
X-ORIGINAL-URL:https://the-gnoshery.com
X-WR-CALDESC:Events for The Gnoshery
REFRESH-INTERVAL;VALUE=DURATION:PT1H
X-Robots-Tag:noindex
X-PUBLISHED-TTL:PT1H
BEGIN:VTIMEZONE
TZID:America/Chicago
BEGIN:DAYLIGHT
TZOFFSETFROM:-0600
TZOFFSETTO:-0500
TZNAME:CDT
DTSTART:20240310T080000
END:DAYLIGHT
BEGIN:STANDARD
TZOFFSETFROM:-0500
TZOFFSETTO:-0600
TZNAME:CST
DTSTART:20241103T070000
END:STANDARD
BEGIN:DAYLIGHT
TZOFFSETFROM:-0600
TZOFFSETTO:-0500
TZNAME:CDT
DTSTART:20250309T080000
END:DAYLIGHT
BEGIN:STANDARD
TZOFFSETFROM:-0500
TZOFFSETTO:-0600
TZNAME:CST
DTSTART:20251102T070000
END:STANDARD
BEGIN:DAYLIGHT
TZOFFSETFROM:-0600
TZOFFSETTO:-0500
TZNAME:CDT
DTSTART:20260308T080000
END:DAYLIGHT
BEGIN:STANDARD
TZOFFSETFROM:-0500
TZOFFSETTO:-0600
TZNAME:CST
DTSTART:20261101T070000
END:STANDARD
END:VTIMEZONE
BEGIN:VEVENT
DTSTART;TZID=America/Chicago:20251027T180000
DTEND;TZID=America/Chicago:20251027T210000
DTSTAMP:20260422T201914
CREATED:20241220T214147Z
LAST-MODIFIED:20260410T202728Z
UID:10009143-1761588000-1761598800@the-gnoshery.com
SUMMARY:Magic Commander Nights!
DESCRIPTION: Commander Nights are here! \nLooking for some casual fun with Magic: The Gathering? Join us every Monday & Friday from 6 PM – 9 PM for Commander Nights! \nGrab a bite to eat\, meet fellow planeswalkers\, and dive into epic Commander battles! Whether you’re a seasoned pro or just starting your journey\, it’s all about good vibes\, friendly competition\, and\, of course\, fun.\n Bring your favorite deck\, try something new\, or just watch the magic unfold. Great food\, great friends\, and great games await!\n See you there—let’s make some legendary memories!\n\nEntry Fee options: $5 Dollars\, a cafe purchase (food or beverage)\, or a Magic The Gathering purchase.
URL:https://the-gnoshery.com/event/magic-commander-nights/2025-10-27/
LOCATION:The Gnoshery\, 23 N. 3rd Ave\, STURGEON BAY\, WI\, 54235\, United States
CATEGORIES:Magic the Gathering
ATTACH;FMTTYPE=image/png:https://the-gnoshery.com/wp-content/uploads/2024/12/SBy-Commander.png
END:VEVENT
BEGIN:VEVENT
DTSTART;TZID=America/Chicago:20251025T090000
DTEND;TZID=America/Chicago:20251025T110000
DTSTAMP:20260422T201914
CREATED:20250126T184202Z
LAST-MODIFIED:20260410T192240Z
UID:10007276-1761382800-1761390000@the-gnoshery.com
SUMMARY:Pokemon Club
DESCRIPTION:🌟 Pokémon Club Saturdays! 🌟Attention\, Trainers! 🧑‍🤝‍🧑 Whether you’re a Pokémon master or just starting your journey\, come join us every Saturday from 9 AM – 11 AM for a fun-filled morning of battles\, trades\, and more! \nOur resident Pokémon Professor will be there to help newcomers and share expert battle tips! 💥 Enjoy casual matches\, trading cards\, and all the Pokémon excitement you can handle. It’s the perfect way to kick off your weekend! 🎉 \nFuel your adventure with tasty breakfast treats from our café—grab a drink and bite while you play! 🍩☕ \nBring your cards\, your friends\, and your A-game! 😁
URL:https://the-gnoshery.com/event/pokemon-club/2025-10-25/
LOCATION:The Gnoshery\, 23 N. 3rd Ave\, STURGEON BAY\, WI\, 54235\, United States
CATEGORIES:Pokemon
ATTACH;FMTTYPE=image/jpeg:https://the-gnoshery.com/wp-content/uploads/2022/01/POKEMON20PIC-11.jpg
END:VEVENT
BEGIN:VEVENT
DTSTART;TZID=America/Chicago:20251024T180000
DTEND;TZID=America/Chicago:20251024T210000
DTSTAMP:20260422T201914
CREATED:20241220T214147Z
LAST-MODIFIED:20260410T202728Z
UID:10009142-1761328800-1761339600@the-gnoshery.com
SUMMARY:Magic Commander Nights!
DESCRIPTION: Commander Nights are here! \nLooking for some casual fun with Magic: The Gathering? Join us every Monday & Friday from 6 PM – 9 PM for Commander Nights! \nGrab a bite to eat\, meet fellow planeswalkers\, and dive into epic Commander battles! Whether you’re a seasoned pro or just starting your journey\, it’s all about good vibes\, friendly competition\, and\, of course\, fun.\n Bring your favorite deck\, try something new\, or just watch the magic unfold. Great food\, great friends\, and great games await!\n See you there—let’s make some legendary memories!\n\nEntry Fee options: $5 Dollars\, a cafe purchase (food or beverage)\, or a Magic The Gathering purchase.
URL:https://the-gnoshery.com/event/magic-commander-nights/2025-10-24/
LOCATION:The Gnoshery\, 23 N. 3rd Ave\, STURGEON BAY\, WI\, 54235\, United States
CATEGORIES:Magic the Gathering
ATTACH;FMTTYPE=image/png:https://the-gnoshery.com/wp-content/uploads/2024/12/SBy-Commander.png
END:VEVENT
BEGIN:VEVENT
DTSTART;TZID=America/Chicago:20251022T120000
DTEND;TZID=America/Chicago:20251022T200000
DTSTAMP:20260422T201914
CREATED:20241220T214627Z
LAST-MODIFIED:20260410T183918Z
UID:10005963-1761134400-1761163200@the-gnoshery.com
SUMMARY:Puzzle Club
DESCRIPTION:🧩 Puzzle Club: Where Every Piece Comes Together! 🧩Join us every Wednesday from 12 PM – 8 PM for an afternoon of puzzling fun! Whether you’re a jigsaw master or a brain teaser enthusiast\, our Puzzle Club is the perfect spot to challenge your mind and unwind. \nWhat’s in Store: \n\nA Variety of Puzzles: From intricate jigsaws to tricky brain teasers\, we’ve got something for every puzzle lover!\nGreat Company: Chat\, laugh\, and make new friends while working together to complete your latest challenge.\n\nEntry: A simple cafe purchase helps keep the Puzzle Club running strong and supports all the fun we’re having! \nBring your best problem-solving skills and let’s turn Wednesday into a fun\, puzzling adventure. 🧠✨
URL:https://the-gnoshery.com/event/puzzle-club-2-2/2025-10-22/
LOCATION:The Gnoshery\, 23 N. 3rd Ave\, STURGEON BAY\, WI\, 54235\, United States
CATEGORIES:Puzzles
END:VEVENT
END:VCALENDAR