BEGIN:VCALENDAR
VERSION:2.0
PRODID:-//The Gnoshery - ECPv6.15.20//NONSGML v1.0//EN
CALSCALE:GREGORIAN
METHOD:PUBLISH
X-WR-CALNAME:The Gnoshery
X-ORIGINAL-URL:https://the-gnoshery.com
X-WR-CALDESC:Events for The Gnoshery
REFRESH-INTERVAL;VALUE=DURATION:PT1H
X-Robots-Tag:noindex
X-PUBLISHED-TTL:PT1H
BEGIN:VTIMEZONE
TZID:America/Chicago
BEGIN:DAYLIGHT
TZOFFSETFROM:-0600
TZOFFSETTO:-0500
TZNAME:CDT
DTSTART:20290311T080000
END:DAYLIGHT
BEGIN:STANDARD
TZOFFSETFROM:-0500
TZOFFSETTO:-0600
TZNAME:CST
DTSTART:20291104T070000
END:STANDARD
BEGIN:DAYLIGHT
TZOFFSETFROM:-0600
TZOFFSETTO:-0500
TZNAME:CDT
DTSTART:20300310T080000
END:DAYLIGHT
BEGIN:STANDARD
TZOFFSETFROM:-0500
TZOFFSETTO:-0600
TZNAME:CST
DTSTART:20301103T070000
END:STANDARD
BEGIN:DAYLIGHT
TZOFFSETFROM:-0600
TZOFFSETTO:-0500
TZNAME:CDT
DTSTART:20310309T080000
END:DAYLIGHT
BEGIN:STANDARD
TZOFFSETFROM:-0500
TZOFFSETTO:-0600
TZNAME:CST
DTSTART:20311102T070000
END:STANDARD
BEGIN:DAYLIGHT
TZOFFSETFROM:-0600
TZOFFSETTO:-0500
TZNAME:CDT
DTSTART:20320314T080000
END:DAYLIGHT
BEGIN:STANDARD
TZOFFSETFROM:-0500
TZOFFSETTO:-0600
TZNAME:CST
DTSTART:20321107T070000
END:STANDARD
END:VTIMEZONE
BEGIN:VEVENT
DTSTART;TZID=America/Chicago:20300819T180000
DTEND;TZID=America/Chicago:20300819T210000
DTSTAMP:20260420T005111
CREATED:20260410T194413Z
LAST-MODIFIED:20260410T194545Z
UID:10008556-1913392800-1913403600@the-gnoshery.com
SUMMARY:Yu-Gi-Oh Nights!
DESCRIPTION:It’s time to d-d-d-duel!!!\n\nIt’s a Monday fun-day tournament!\n\n3 rounds win a match win an OTS pack. If you haven’t received an OTS pack by the end of the event\, you get one for coming and playing!\n\n\n$5 per player. \n\nLearn more HERE
URL:https://the-gnoshery.com/event/yu-gi-oh-nights/2030-08-19/
LOCATION:The Gnoshery\, 23 N. 3rd Ave\, STURGEON BAY\, WI\, 54235\, United States
CATEGORIES:Casual Play,Yu-gi-oh
ATTACH;FMTTYPE=image/png:https://the-gnoshery.com/wp-content/uploads/2026/04/SBy-Commander-1.png
END:VEVENT
BEGIN:VEVENT
DTSTART;TZID=America/Chicago:20300826T180000
DTEND;TZID=America/Chicago:20300826T210000
DTSTAMP:20260420T005111
CREATED:20260410T194413Z
LAST-MODIFIED:20260410T194545Z
UID:10008557-1913997600-1914008400@the-gnoshery.com
SUMMARY:Yu-Gi-Oh Nights!
DESCRIPTION:It’s time to d-d-d-duel!!!\n\nIt’s a Monday fun-day tournament!\n\n3 rounds win a match win an OTS pack. If you haven’t received an OTS pack by the end of the event\, you get one for coming and playing!\n\n\n$5 per player. \n\nLearn more HERE
URL:https://the-gnoshery.com/event/yu-gi-oh-nights/2030-08-26/
LOCATION:The Gnoshery\, 23 N. 3rd Ave\, STURGEON BAY\, WI\, 54235\, United States
CATEGORIES:Casual Play,Yu-gi-oh
ATTACH;FMTTYPE=image/png:https://the-gnoshery.com/wp-content/uploads/2026/04/SBy-Commander-1.png
END:VEVENT
BEGIN:VEVENT
DTSTART;TZID=America/Chicago:20300902T180000
DTEND;TZID=America/Chicago:20300902T210000
DTSTAMP:20260420T005111
CREATED:20260410T194413Z
LAST-MODIFIED:20260410T194545Z
UID:10008558-1914602400-1914613200@the-gnoshery.com
SUMMARY:Yu-Gi-Oh Nights!
DESCRIPTION:It’s time to d-d-d-duel!!!\n\nIt’s a Monday fun-day tournament!\n\n3 rounds win a match win an OTS pack. If you haven’t received an OTS pack by the end of the event\, you get one for coming and playing!\n\n\n$5 per player. \n\nLearn more HERE
URL:https://the-gnoshery.com/event/yu-gi-oh-nights/2030-09-02/
LOCATION:The Gnoshery\, 23 N. 3rd Ave\, STURGEON BAY\, WI\, 54235\, United States
CATEGORIES:Casual Play,Yu-gi-oh
ATTACH;FMTTYPE=image/png:https://the-gnoshery.com/wp-content/uploads/2026/04/SBy-Commander-1.png
END:VEVENT
BEGIN:VEVENT
DTSTART;TZID=America/Chicago:20300909T180000
DTEND;TZID=America/Chicago:20300909T210000
DTSTAMP:20260420T005111
CREATED:20260410T194413Z
LAST-MODIFIED:20260410T194545Z
UID:10008559-1915207200-1915218000@the-gnoshery.com
SUMMARY:Yu-Gi-Oh Nights!
DESCRIPTION:It’s time to d-d-d-duel!!!\n\nIt’s a Monday fun-day tournament!\n\n3 rounds win a match win an OTS pack. If you haven’t received an OTS pack by the end of the event\, you get one for coming and playing!\n\n\n$5 per player. \n\nLearn more HERE
URL:https://the-gnoshery.com/event/yu-gi-oh-nights/2030-09-09/
LOCATION:The Gnoshery\, 23 N. 3rd Ave\, STURGEON BAY\, WI\, 54235\, United States
CATEGORIES:Casual Play,Yu-gi-oh
ATTACH;FMTTYPE=image/png:https://the-gnoshery.com/wp-content/uploads/2026/04/SBy-Commander-1.png
END:VEVENT
BEGIN:VEVENT
DTSTART;TZID=America/Chicago:20300916T180000
DTEND;TZID=America/Chicago:20300916T210000
DTSTAMP:20260420T005111
CREATED:20260410T194413Z
LAST-MODIFIED:20260410T194545Z
UID:10008560-1915812000-1915822800@the-gnoshery.com
SUMMARY:Yu-Gi-Oh Nights!
DESCRIPTION:It’s time to d-d-d-duel!!!\n\nIt’s a Monday fun-day tournament!\n\n3 rounds win a match win an OTS pack. If you haven’t received an OTS pack by the end of the event\, you get one for coming and playing!\n\n\n$5 per player. \n\nLearn more HERE
URL:https://the-gnoshery.com/event/yu-gi-oh-nights/2030-09-16/
LOCATION:The Gnoshery\, 23 N. 3rd Ave\, STURGEON BAY\, WI\, 54235\, United States
CATEGORIES:Casual Play,Yu-gi-oh
ATTACH;FMTTYPE=image/png:https://the-gnoshery.com/wp-content/uploads/2026/04/SBy-Commander-1.png
END:VEVENT
BEGIN:VEVENT
DTSTART;TZID=America/Chicago:20300923T180000
DTEND;TZID=America/Chicago:20300923T210000
DTSTAMP:20260420T005111
CREATED:20260410T194413Z
LAST-MODIFIED:20260410T194545Z
UID:10008561-1916416800-1916427600@the-gnoshery.com
SUMMARY:Yu-Gi-Oh Nights!
DESCRIPTION:It’s time to d-d-d-duel!!!\n\nIt’s a Monday fun-day tournament!\n\n3 rounds win a match win an OTS pack. If you haven’t received an OTS pack by the end of the event\, you get one for coming and playing!\n\n\n$5 per player. \n\nLearn more HERE
URL:https://the-gnoshery.com/event/yu-gi-oh-nights/2030-09-23/
LOCATION:The Gnoshery\, 23 N. 3rd Ave\, STURGEON BAY\, WI\, 54235\, United States
CATEGORIES:Casual Play,Yu-gi-oh
ATTACH;FMTTYPE=image/png:https://the-gnoshery.com/wp-content/uploads/2026/04/SBy-Commander-1.png
END:VEVENT
BEGIN:VEVENT
DTSTART;TZID=America/Chicago:20300930T180000
DTEND;TZID=America/Chicago:20300930T210000
DTSTAMP:20260420T005111
CREATED:20260410T194413Z
LAST-MODIFIED:20260410T194545Z
UID:10008562-1917021600-1917032400@the-gnoshery.com
SUMMARY:Yu-Gi-Oh Nights!
DESCRIPTION:It’s time to d-d-d-duel!!!\n\nIt’s a Monday fun-day tournament!\n\n3 rounds win a match win an OTS pack. If you haven’t received an OTS pack by the end of the event\, you get one for coming and playing!\n\n\n$5 per player. \n\nLearn more HERE
URL:https://the-gnoshery.com/event/yu-gi-oh-nights/2030-09-30/
LOCATION:The Gnoshery\, 23 N. 3rd Ave\, STURGEON BAY\, WI\, 54235\, United States
CATEGORIES:Casual Play,Yu-gi-oh
ATTACH;FMTTYPE=image/png:https://the-gnoshery.com/wp-content/uploads/2026/04/SBy-Commander-1.png
END:VEVENT
BEGIN:VEVENT
DTSTART;TZID=America/Chicago:20301007T180000
DTEND;TZID=America/Chicago:20301007T210000
DTSTAMP:20260420T005111
CREATED:20260410T194413Z
LAST-MODIFIED:20260410T194545Z
UID:10008563-1917626400-1917637200@the-gnoshery.com
SUMMARY:Yu-Gi-Oh Nights!
DESCRIPTION:It’s time to d-d-d-duel!!!\n\nIt’s a Monday fun-day tournament!\n\n3 rounds win a match win an OTS pack. If you haven’t received an OTS pack by the end of the event\, you get one for coming and playing!\n\n\n$5 per player. \n\nLearn more HERE
URL:https://the-gnoshery.com/event/yu-gi-oh-nights/2030-10-07/
LOCATION:The Gnoshery\, 23 N. 3rd Ave\, STURGEON BAY\, WI\, 54235\, United States
CATEGORIES:Casual Play,Yu-gi-oh
ATTACH;FMTTYPE=image/png:https://the-gnoshery.com/wp-content/uploads/2026/04/SBy-Commander-1.png
END:VEVENT
BEGIN:VEVENT
DTSTART;TZID=America/Chicago:20301014T180000
DTEND;TZID=America/Chicago:20301014T210000
DTSTAMP:20260420T005111
CREATED:20260410T194413Z
LAST-MODIFIED:20260410T194545Z
UID:10008564-1918231200-1918242000@the-gnoshery.com
SUMMARY:Yu-Gi-Oh Nights!
DESCRIPTION:It’s time to d-d-d-duel!!!\n\nIt’s a Monday fun-day tournament!\n\n3 rounds win a match win an OTS pack. If you haven’t received an OTS pack by the end of the event\, you get one for coming and playing!\n\n\n$5 per player. \n\nLearn more HERE
URL:https://the-gnoshery.com/event/yu-gi-oh-nights/2030-10-14/
LOCATION:The Gnoshery\, 23 N. 3rd Ave\, STURGEON BAY\, WI\, 54235\, United States
CATEGORIES:Casual Play,Yu-gi-oh
ATTACH;FMTTYPE=image/png:https://the-gnoshery.com/wp-content/uploads/2026/04/SBy-Commander-1.png
END:VEVENT
BEGIN:VEVENT
DTSTART;TZID=America/Chicago:20301021T180000
DTEND;TZID=America/Chicago:20301021T210000
DTSTAMP:20260420T005112
CREATED:20260410T194413Z
LAST-MODIFIED:20260410T194545Z
UID:10008565-1918836000-1918846800@the-gnoshery.com
SUMMARY:Yu-Gi-Oh Nights!
DESCRIPTION:It’s time to d-d-d-duel!!!\n\nIt’s a Monday fun-day tournament!\n\n3 rounds win a match win an OTS pack. If you haven’t received an OTS pack by the end of the event\, you get one for coming and playing!\n\n\n$5 per player. \n\nLearn more HERE
URL:https://the-gnoshery.com/event/yu-gi-oh-nights/2030-10-21/
LOCATION:The Gnoshery\, 23 N. 3rd Ave\, STURGEON BAY\, WI\, 54235\, United States
CATEGORIES:Casual Play,Yu-gi-oh
ATTACH;FMTTYPE=image/png:https://the-gnoshery.com/wp-content/uploads/2026/04/SBy-Commander-1.png
END:VEVENT
BEGIN:VEVENT
DTSTART;TZID=America/Chicago:20301028T180000
DTEND;TZID=America/Chicago:20301028T210000
DTSTAMP:20260420T005112
CREATED:20260410T194413Z
LAST-MODIFIED:20260410T194545Z
UID:10008566-1919440800-1919451600@the-gnoshery.com
SUMMARY:Yu-Gi-Oh Nights!
DESCRIPTION:It’s time to d-d-d-duel!!!\n\nIt’s a Monday fun-day tournament!\n\n3 rounds win a match win an OTS pack. If you haven’t received an OTS pack by the end of the event\, you get one for coming and playing!\n\n\n$5 per player. \n\nLearn more HERE
URL:https://the-gnoshery.com/event/yu-gi-oh-nights/2030-10-28/
LOCATION:The Gnoshery\, 23 N. 3rd Ave\, STURGEON BAY\, WI\, 54235\, United States
CATEGORIES:Casual Play,Yu-gi-oh
ATTACH;FMTTYPE=image/png:https://the-gnoshery.com/wp-content/uploads/2026/04/SBy-Commander-1.png
END:VEVENT
BEGIN:VEVENT
DTSTART;TZID=America/Chicago:20301104T180000
DTEND;TZID=America/Chicago:20301104T210000
DTSTAMP:20260420T005112
CREATED:20260410T194413Z
LAST-MODIFIED:20260410T194545Z
UID:10008567-1920045600-1920056400@the-gnoshery.com
SUMMARY:Yu-Gi-Oh Nights!
DESCRIPTION:It’s time to d-d-d-duel!!!\n\nIt’s a Monday fun-day tournament!\n\n3 rounds win a match win an OTS pack. If you haven’t received an OTS pack by the end of the event\, you get one for coming and playing!\n\n\n$5 per player. \n\nLearn more HERE
URL:https://the-gnoshery.com/event/yu-gi-oh-nights/2030-11-04/
LOCATION:The Gnoshery\, 23 N. 3rd Ave\, STURGEON BAY\, WI\, 54235\, United States
CATEGORIES:Casual Play,Yu-gi-oh
ATTACH;FMTTYPE=image/png:https://the-gnoshery.com/wp-content/uploads/2026/04/SBy-Commander-1.png
END:VEVENT
BEGIN:VEVENT
DTSTART;TZID=America/Chicago:20301111T180000
DTEND;TZID=America/Chicago:20301111T210000
DTSTAMP:20260420T005112
CREATED:20260410T194413Z
LAST-MODIFIED:20260410T194545Z
UID:10008568-1920650400-1920661200@the-gnoshery.com
SUMMARY:Yu-Gi-Oh Nights!
DESCRIPTION:It’s time to d-d-d-duel!!!\n\nIt’s a Monday fun-day tournament!\n\n3 rounds win a match win an OTS pack. If you haven’t received an OTS pack by the end of the event\, you get one for coming and playing!\n\n\n$5 per player. \n\nLearn more HERE
URL:https://the-gnoshery.com/event/yu-gi-oh-nights/2030-11-11/
LOCATION:The Gnoshery\, 23 N. 3rd Ave\, STURGEON BAY\, WI\, 54235\, United States
CATEGORIES:Casual Play,Yu-gi-oh
ATTACH;FMTTYPE=image/png:https://the-gnoshery.com/wp-content/uploads/2026/04/SBy-Commander-1.png
END:VEVENT
BEGIN:VEVENT
DTSTART;TZID=America/Chicago:20301118T180000
DTEND;TZID=America/Chicago:20301118T210000
DTSTAMP:20260420T005112
CREATED:20260410T194413Z
LAST-MODIFIED:20260410T194545Z
UID:10008569-1921255200-1921266000@the-gnoshery.com
SUMMARY:Yu-Gi-Oh Nights!
DESCRIPTION:It’s time to d-d-d-duel!!!\n\nIt’s a Monday fun-day tournament!\n\n3 rounds win a match win an OTS pack. If you haven’t received an OTS pack by the end of the event\, you get one for coming and playing!\n\n\n$5 per player. \n\nLearn more HERE
URL:https://the-gnoshery.com/event/yu-gi-oh-nights/2030-11-18/
LOCATION:The Gnoshery\, 23 N. 3rd Ave\, STURGEON BAY\, WI\, 54235\, United States
CATEGORIES:Casual Play,Yu-gi-oh
ATTACH;FMTTYPE=image/png:https://the-gnoshery.com/wp-content/uploads/2026/04/SBy-Commander-1.png
END:VEVENT
BEGIN:VEVENT
DTSTART;TZID=America/Chicago:20301125T180000
DTEND;TZID=America/Chicago:20301125T210000
DTSTAMP:20260420T005112
CREATED:20260410T194413Z
LAST-MODIFIED:20260410T194545Z
UID:10008570-1921860000-1921870800@the-gnoshery.com
SUMMARY:Yu-Gi-Oh Nights!
DESCRIPTION:It’s time to d-d-d-duel!!!\n\nIt’s a Monday fun-day tournament!\n\n3 rounds win a match win an OTS pack. If you haven’t received an OTS pack by the end of the event\, you get one for coming and playing!\n\n\n$5 per player. \n\nLearn more HERE
URL:https://the-gnoshery.com/event/yu-gi-oh-nights/2030-11-25/
LOCATION:The Gnoshery\, 23 N. 3rd Ave\, STURGEON BAY\, WI\, 54235\, United States
CATEGORIES:Casual Play,Yu-gi-oh
ATTACH;FMTTYPE=image/png:https://the-gnoshery.com/wp-content/uploads/2026/04/SBy-Commander-1.png
END:VEVENT
BEGIN:VEVENT
DTSTART;TZID=America/Chicago:20301202T180000
DTEND;TZID=America/Chicago:20301202T210000
DTSTAMP:20260420T005112
CREATED:20260410T194413Z
LAST-MODIFIED:20260410T194545Z
UID:10008571-1922464800-1922475600@the-gnoshery.com
SUMMARY:Yu-Gi-Oh Nights!
DESCRIPTION:It’s time to d-d-d-duel!!!\n\nIt’s a Monday fun-day tournament!\n\n3 rounds win a match win an OTS pack. If you haven’t received an OTS pack by the end of the event\, you get one for coming and playing!\n\n\n$5 per player. \n\nLearn more HERE
URL:https://the-gnoshery.com/event/yu-gi-oh-nights/2030-12-02/
LOCATION:The Gnoshery\, 23 N. 3rd Ave\, STURGEON BAY\, WI\, 54235\, United States
CATEGORIES:Casual Play,Yu-gi-oh
ATTACH;FMTTYPE=image/png:https://the-gnoshery.com/wp-content/uploads/2026/04/SBy-Commander-1.png
END:VEVENT
BEGIN:VEVENT
DTSTART;TZID=America/Chicago:20301209T180000
DTEND;TZID=America/Chicago:20301209T210000
DTSTAMP:20260420T005112
CREATED:20260410T194413Z
LAST-MODIFIED:20260410T194545Z
UID:10008572-1923069600-1923080400@the-gnoshery.com
SUMMARY:Yu-Gi-Oh Nights!
DESCRIPTION:It’s time to d-d-d-duel!!!\n\nIt’s a Monday fun-day tournament!\n\n3 rounds win a match win an OTS pack. If you haven’t received an OTS pack by the end of the event\, you get one for coming and playing!\n\n\n$5 per player. \n\nLearn more HERE
URL:https://the-gnoshery.com/event/yu-gi-oh-nights/2030-12-09/
LOCATION:The Gnoshery\, 23 N. 3rd Ave\, STURGEON BAY\, WI\, 54235\, United States
CATEGORIES:Casual Play,Yu-gi-oh
ATTACH;FMTTYPE=image/png:https://the-gnoshery.com/wp-content/uploads/2026/04/SBy-Commander-1.png
END:VEVENT
BEGIN:VEVENT
DTSTART;TZID=America/Chicago:20301216T180000
DTEND;TZID=America/Chicago:20301216T210000
DTSTAMP:20260420T005112
CREATED:20260410T194413Z
LAST-MODIFIED:20260410T194545Z
UID:10008573-1923674400-1923685200@the-gnoshery.com
SUMMARY:Yu-Gi-Oh Nights!
DESCRIPTION:It’s time to d-d-d-duel!!!\n\nIt’s a Monday fun-day tournament!\n\n3 rounds win a match win an OTS pack. If you haven’t received an OTS pack by the end of the event\, you get one for coming and playing!\n\n\n$5 per player. \n\nLearn more HERE
URL:https://the-gnoshery.com/event/yu-gi-oh-nights/2030-12-16/
LOCATION:The Gnoshery\, 23 N. 3rd Ave\, STURGEON BAY\, WI\, 54235\, United States
CATEGORIES:Casual Play,Yu-gi-oh
ATTACH;FMTTYPE=image/png:https://the-gnoshery.com/wp-content/uploads/2026/04/SBy-Commander-1.png
END:VEVENT
BEGIN:VEVENT
DTSTART;TZID=America/Chicago:20301223T180000
DTEND;TZID=America/Chicago:20301223T210000
DTSTAMP:20260420T005112
CREATED:20260410T194413Z
LAST-MODIFIED:20260410T194545Z
UID:10008574-1924279200-1924290000@the-gnoshery.com
SUMMARY:Yu-Gi-Oh Nights!
DESCRIPTION:It’s time to d-d-d-duel!!!\n\nIt’s a Monday fun-day tournament!\n\n3 rounds win a match win an OTS pack. If you haven’t received an OTS pack by the end of the event\, you get one for coming and playing!\n\n\n$5 per player. \n\nLearn more HERE
URL:https://the-gnoshery.com/event/yu-gi-oh-nights/2030-12-23/
LOCATION:The Gnoshery\, 23 N. 3rd Ave\, STURGEON BAY\, WI\, 54235\, United States
CATEGORIES:Casual Play,Yu-gi-oh
ATTACH;FMTTYPE=image/png:https://the-gnoshery.com/wp-content/uploads/2026/04/SBy-Commander-1.png
END:VEVENT
BEGIN:VEVENT
DTSTART;TZID=America/Chicago:20301230T180000
DTEND;TZID=America/Chicago:20301230T210000
DTSTAMP:20260420T005112
CREATED:20260410T194413Z
LAST-MODIFIED:20260410T194545Z
UID:10008575-1924884000-1924894800@the-gnoshery.com
SUMMARY:Yu-Gi-Oh Nights!
DESCRIPTION:It’s time to d-d-d-duel!!!\n\nIt’s a Monday fun-day tournament!\n\n3 rounds win a match win an OTS pack. If you haven’t received an OTS pack by the end of the event\, you get one for coming and playing!\n\n\n$5 per player. \n\nLearn more HERE
URL:https://the-gnoshery.com/event/yu-gi-oh-nights/2030-12-30/
LOCATION:The Gnoshery\, 23 N. 3rd Ave\, STURGEON BAY\, WI\, 54235\, United States
CATEGORIES:Casual Play,Yu-gi-oh
ATTACH;FMTTYPE=image/png:https://the-gnoshery.com/wp-content/uploads/2026/04/SBy-Commander-1.png
END:VEVENT
BEGIN:VEVENT
DTSTART;TZID=America/Chicago:20310106T180000
DTEND;TZID=America/Chicago:20310106T210000
DTSTAMP:20260420T005112
CREATED:20260410T194413Z
LAST-MODIFIED:20260410T194545Z
UID:10008576-1925488800-1925499600@the-gnoshery.com
SUMMARY:Yu-Gi-Oh Nights!
DESCRIPTION:It’s time to d-d-d-duel!!!\n\nIt’s a Monday fun-day tournament!\n\n3 rounds win a match win an OTS pack. If you haven’t received an OTS pack by the end of the event\, you get one for coming and playing!\n\n\n$5 per player. \n\nLearn more HERE
URL:https://the-gnoshery.com/event/yu-gi-oh-nights/2031-01-06/
LOCATION:The Gnoshery\, 23 N. 3rd Ave\, STURGEON BAY\, WI\, 54235\, United States
CATEGORIES:Casual Play,Yu-gi-oh
ATTACH;FMTTYPE=image/png:https://the-gnoshery.com/wp-content/uploads/2026/04/SBy-Commander-1.png
END:VEVENT
BEGIN:VEVENT
DTSTART;TZID=America/Chicago:20310113T180000
DTEND;TZID=America/Chicago:20310113T210000
DTSTAMP:20260420T005112
CREATED:20260410T194413Z
LAST-MODIFIED:20260410T194545Z
UID:10008577-1926093600-1926104400@the-gnoshery.com
SUMMARY:Yu-Gi-Oh Nights!
DESCRIPTION:It’s time to d-d-d-duel!!!\n\nIt’s a Monday fun-day tournament!\n\n3 rounds win a match win an OTS pack. If you haven’t received an OTS pack by the end of the event\, you get one for coming and playing!\n\n\n$5 per player. \n\nLearn more HERE
URL:https://the-gnoshery.com/event/yu-gi-oh-nights/2031-01-13/
LOCATION:The Gnoshery\, 23 N. 3rd Ave\, STURGEON BAY\, WI\, 54235\, United States
CATEGORIES:Casual Play,Yu-gi-oh
ATTACH;FMTTYPE=image/png:https://the-gnoshery.com/wp-content/uploads/2026/04/SBy-Commander-1.png
END:VEVENT
BEGIN:VEVENT
DTSTART;TZID=America/Chicago:20310120T180000
DTEND;TZID=America/Chicago:20310120T210000
DTSTAMP:20260420T005112
CREATED:20260410T194413Z
LAST-MODIFIED:20260410T194545Z
UID:10008578-1926698400-1926709200@the-gnoshery.com
SUMMARY:Yu-Gi-Oh Nights!
DESCRIPTION:It’s time to d-d-d-duel!!!\n\nIt’s a Monday fun-day tournament!\n\n3 rounds win a match win an OTS pack. If you haven’t received an OTS pack by the end of the event\, you get one for coming and playing!\n\n\n$5 per player. \n\nLearn more HERE
URL:https://the-gnoshery.com/event/yu-gi-oh-nights/2031-01-20/
LOCATION:The Gnoshery\, 23 N. 3rd Ave\, STURGEON BAY\, WI\, 54235\, United States
CATEGORIES:Casual Play,Yu-gi-oh
ATTACH;FMTTYPE=image/png:https://the-gnoshery.com/wp-content/uploads/2026/04/SBy-Commander-1.png
END:VEVENT
BEGIN:VEVENT
DTSTART;TZID=America/Chicago:20310127T180000
DTEND;TZID=America/Chicago:20310127T210000
DTSTAMP:20260420T005112
CREATED:20260410T194413Z
LAST-MODIFIED:20260410T194545Z
UID:10008579-1927303200-1927314000@the-gnoshery.com
SUMMARY:Yu-Gi-Oh Nights!
DESCRIPTION:It’s time to d-d-d-duel!!!\n\nIt’s a Monday fun-day tournament!\n\n3 rounds win a match win an OTS pack. If you haven’t received an OTS pack by the end of the event\, you get one for coming and playing!\n\n\n$5 per player. \n\nLearn more HERE
URL:https://the-gnoshery.com/event/yu-gi-oh-nights/2031-01-27/
LOCATION:The Gnoshery\, 23 N. 3rd Ave\, STURGEON BAY\, WI\, 54235\, United States
CATEGORIES:Casual Play,Yu-gi-oh
ATTACH;FMTTYPE=image/png:https://the-gnoshery.com/wp-content/uploads/2026/04/SBy-Commander-1.png
END:VEVENT
BEGIN:VEVENT
DTSTART;TZID=America/Chicago:20310203T180000
DTEND;TZID=America/Chicago:20310203T210000
DTSTAMP:20260420T005112
CREATED:20260410T194413Z
LAST-MODIFIED:20260410T194545Z
UID:10008580-1927908000-1927918800@the-gnoshery.com
SUMMARY:Yu-Gi-Oh Nights!
DESCRIPTION:It’s time to d-d-d-duel!!!\n\nIt’s a Monday fun-day tournament!\n\n3 rounds win a match win an OTS pack. If you haven’t received an OTS pack by the end of the event\, you get one for coming and playing!\n\n\n$5 per player. \n\nLearn more HERE
URL:https://the-gnoshery.com/event/yu-gi-oh-nights/2031-02-03/
LOCATION:The Gnoshery\, 23 N. 3rd Ave\, STURGEON BAY\, WI\, 54235\, United States
CATEGORIES:Casual Play,Yu-gi-oh
ATTACH;FMTTYPE=image/png:https://the-gnoshery.com/wp-content/uploads/2026/04/SBy-Commander-1.png
END:VEVENT
BEGIN:VEVENT
DTSTART;TZID=America/Chicago:20310210T180000
DTEND;TZID=America/Chicago:20310210T210000
DTSTAMP:20260420T005112
CREATED:20260410T194413Z
LAST-MODIFIED:20260410T194545Z
UID:10008581-1928512800-1928523600@the-gnoshery.com
SUMMARY:Yu-Gi-Oh Nights!
DESCRIPTION:It’s time to d-d-d-duel!!!\n\nIt’s a Monday fun-day tournament!\n\n3 rounds win a match win an OTS pack. If you haven’t received an OTS pack by the end of the event\, you get one for coming and playing!\n\n\n$5 per player. \n\nLearn more HERE
URL:https://the-gnoshery.com/event/yu-gi-oh-nights/2031-02-10/
LOCATION:The Gnoshery\, 23 N. 3rd Ave\, STURGEON BAY\, WI\, 54235\, United States
CATEGORIES:Casual Play,Yu-gi-oh
ATTACH;FMTTYPE=image/png:https://the-gnoshery.com/wp-content/uploads/2026/04/SBy-Commander-1.png
END:VEVENT
BEGIN:VEVENT
DTSTART;TZID=America/Chicago:20310217T180000
DTEND;TZID=America/Chicago:20310217T210000
DTSTAMP:20260420T005112
CREATED:20260410T194413Z
LAST-MODIFIED:20260410T194545Z
UID:10008582-1929117600-1929128400@the-gnoshery.com
SUMMARY:Yu-Gi-Oh Nights!
DESCRIPTION:It’s time to d-d-d-duel!!!\n\nIt’s a Monday fun-day tournament!\n\n3 rounds win a match win an OTS pack. If you haven’t received an OTS pack by the end of the event\, you get one for coming and playing!\n\n\n$5 per player. \n\nLearn more HERE
URL:https://the-gnoshery.com/event/yu-gi-oh-nights/2031-02-17/
LOCATION:The Gnoshery\, 23 N. 3rd Ave\, STURGEON BAY\, WI\, 54235\, United States
CATEGORIES:Casual Play,Yu-gi-oh
ATTACH;FMTTYPE=image/png:https://the-gnoshery.com/wp-content/uploads/2026/04/SBy-Commander-1.png
END:VEVENT
BEGIN:VEVENT
DTSTART;TZID=America/Chicago:20310224T180000
DTEND;TZID=America/Chicago:20310224T210000
DTSTAMP:20260420T005112
CREATED:20260410T194413Z
LAST-MODIFIED:20260410T194545Z
UID:10008583-1929722400-1929733200@the-gnoshery.com
SUMMARY:Yu-Gi-Oh Nights!
DESCRIPTION:It’s time to d-d-d-duel!!!\n\nIt’s a Monday fun-day tournament!\n\n3 rounds win a match win an OTS pack. If you haven’t received an OTS pack by the end of the event\, you get one for coming and playing!\n\n\n$5 per player. \n\nLearn more HERE
URL:https://the-gnoshery.com/event/yu-gi-oh-nights/2031-02-24/
LOCATION:The Gnoshery\, 23 N. 3rd Ave\, STURGEON BAY\, WI\, 54235\, United States
CATEGORIES:Casual Play,Yu-gi-oh
ATTACH;FMTTYPE=image/png:https://the-gnoshery.com/wp-content/uploads/2026/04/SBy-Commander-1.png
END:VEVENT
BEGIN:VEVENT
DTSTART;TZID=America/Chicago:20310303T180000
DTEND;TZID=America/Chicago:20310303T210000
DTSTAMP:20260420T005112
CREATED:20260410T194413Z
LAST-MODIFIED:20260410T194545Z
UID:10008584-1930327200-1930338000@the-gnoshery.com
SUMMARY:Yu-Gi-Oh Nights!
DESCRIPTION:It’s time to d-d-d-duel!!!\n\nIt’s a Monday fun-day tournament!\n\n3 rounds win a match win an OTS pack. If you haven’t received an OTS pack by the end of the event\, you get one for coming and playing!\n\n\n$5 per player. \n\nLearn more HERE
URL:https://the-gnoshery.com/event/yu-gi-oh-nights/2031-03-03/
LOCATION:The Gnoshery\, 23 N. 3rd Ave\, STURGEON BAY\, WI\, 54235\, United States
CATEGORIES:Casual Play,Yu-gi-oh
ATTACH;FMTTYPE=image/png:https://the-gnoshery.com/wp-content/uploads/2026/04/SBy-Commander-1.png
END:VEVENT
BEGIN:VEVENT
DTSTART;TZID=America/Chicago:20310310T180000
DTEND;TZID=America/Chicago:20310310T210000
DTSTAMP:20260420T005112
CREATED:20260410T194413Z
LAST-MODIFIED:20260410T194545Z
UID:10008585-1930932000-1930942800@the-gnoshery.com
SUMMARY:Yu-Gi-Oh Nights!
DESCRIPTION:It’s time to d-d-d-duel!!!\n\nIt’s a Monday fun-day tournament!\n\n3 rounds win a match win an OTS pack. If you haven’t received an OTS pack by the end of the event\, you get one for coming and playing!\n\n\n$5 per player. \n\nLearn more HERE
URL:https://the-gnoshery.com/event/yu-gi-oh-nights/2031-03-10/
LOCATION:The Gnoshery\, 23 N. 3rd Ave\, STURGEON BAY\, WI\, 54235\, United States
CATEGORIES:Casual Play,Yu-gi-oh
ATTACH;FMTTYPE=image/png:https://the-gnoshery.com/wp-content/uploads/2026/04/SBy-Commander-1.png
END:VEVENT
END:VCALENDAR