BEGIN:VCALENDAR
VERSION:2.0
PRODID:-//The Gnoshery - ECPv6.15.20//NONSGML v1.0//EN
CALSCALE:GREGORIAN
METHOD:PUBLISH
X-WR-CALNAME:The Gnoshery
X-ORIGINAL-URL:https://the-gnoshery.com
X-WR-CALDESC:Events for The Gnoshery
REFRESH-INTERVAL;VALUE=DURATION:PT1H
X-Robots-Tag:noindex
X-PUBLISHED-TTL:PT1H
BEGIN:VTIMEZONE
TZID:America/Chicago
BEGIN:DAYLIGHT
TZOFFSETFROM:-0600
TZOFFSETTO:-0500
TZNAME:CDT
DTSTART:20290311T080000
END:DAYLIGHT
BEGIN:STANDARD
TZOFFSETFROM:-0500
TZOFFSETTO:-0600
TZNAME:CST
DTSTART:20291104T070000
END:STANDARD
BEGIN:DAYLIGHT
TZOFFSETFROM:-0600
TZOFFSETTO:-0500
TZNAME:CDT
DTSTART:20300310T080000
END:DAYLIGHT
BEGIN:STANDARD
TZOFFSETFROM:-0500
TZOFFSETTO:-0600
TZNAME:CST
DTSTART:20301103T070000
END:STANDARD
BEGIN:DAYLIGHT
TZOFFSETFROM:-0600
TZOFFSETTO:-0500
TZNAME:CDT
DTSTART:20310309T080000
END:DAYLIGHT
BEGIN:STANDARD
TZOFFSETFROM:-0500
TZOFFSETTO:-0600
TZNAME:CST
DTSTART:20311102T070000
END:STANDARD
END:VTIMEZONE
BEGIN:VEVENT
DTSTART;TZID=America/Chicago:20300114T180000
DTEND;TZID=America/Chicago:20300114T210000
DTSTAMP:20260419T200103
CREATED:20260410T194413Z
LAST-MODIFIED:20260410T194545Z
UID:10008525-1894644000-1894654800@the-gnoshery.com
SUMMARY:Yu-Gi-Oh Nights!
DESCRIPTION:It’s time to d-d-d-duel!!!\n\nIt’s a Monday fun-day tournament!\n\n3 rounds win a match win an OTS pack. If you haven’t received an OTS pack by the end of the event\, you get one for coming and playing!\n\n\n$5 per player. \n\nLearn more HERE
URL:https://the-gnoshery.com/event/yu-gi-oh-nights/2030-01-14/
LOCATION:The Gnoshery\, 23 N. 3rd Ave\, STURGEON BAY\, WI\, 54235\, United States
CATEGORIES:Casual Play,Yu-gi-oh
ATTACH;FMTTYPE=image/png:https://the-gnoshery.com/wp-content/uploads/2026/04/SBy-Commander-1.png
END:VEVENT
BEGIN:VEVENT
DTSTART;TZID=America/Chicago:20300121T180000
DTEND;TZID=America/Chicago:20300121T210000
DTSTAMP:20260419T200103
CREATED:20260410T194413Z
LAST-MODIFIED:20260410T194545Z
UID:10008526-1895248800-1895259600@the-gnoshery.com
SUMMARY:Yu-Gi-Oh Nights!
DESCRIPTION:It’s time to d-d-d-duel!!!\n\nIt’s a Monday fun-day tournament!\n\n3 rounds win a match win an OTS pack. If you haven’t received an OTS pack by the end of the event\, you get one for coming and playing!\n\n\n$5 per player. \n\nLearn more HERE
URL:https://the-gnoshery.com/event/yu-gi-oh-nights/2030-01-21/
LOCATION:The Gnoshery\, 23 N. 3rd Ave\, STURGEON BAY\, WI\, 54235\, United States
CATEGORIES:Casual Play,Yu-gi-oh
ATTACH;FMTTYPE=image/png:https://the-gnoshery.com/wp-content/uploads/2026/04/SBy-Commander-1.png
END:VEVENT
BEGIN:VEVENT
DTSTART;TZID=America/Chicago:20300128T180000
DTEND;TZID=America/Chicago:20300128T210000
DTSTAMP:20260419T200103
CREATED:20260410T194413Z
LAST-MODIFIED:20260410T194545Z
UID:10008527-1895853600-1895864400@the-gnoshery.com
SUMMARY:Yu-Gi-Oh Nights!
DESCRIPTION:It’s time to d-d-d-duel!!!\n\nIt’s a Monday fun-day tournament!\n\n3 rounds win a match win an OTS pack. If you haven’t received an OTS pack by the end of the event\, you get one for coming and playing!\n\n\n$5 per player. \n\nLearn more HERE
URL:https://the-gnoshery.com/event/yu-gi-oh-nights/2030-01-28/
LOCATION:The Gnoshery\, 23 N. 3rd Ave\, STURGEON BAY\, WI\, 54235\, United States
CATEGORIES:Casual Play,Yu-gi-oh
ATTACH;FMTTYPE=image/png:https://the-gnoshery.com/wp-content/uploads/2026/04/SBy-Commander-1.png
END:VEVENT
BEGIN:VEVENT
DTSTART;TZID=America/Chicago:20300204T180000
DTEND;TZID=America/Chicago:20300204T210000
DTSTAMP:20260419T200103
CREATED:20260410T194413Z
LAST-MODIFIED:20260410T194545Z
UID:10008528-1896458400-1896469200@the-gnoshery.com
SUMMARY:Yu-Gi-Oh Nights!
DESCRIPTION:It’s time to d-d-d-duel!!!\n\nIt’s a Monday fun-day tournament!\n\n3 rounds win a match win an OTS pack. If you haven’t received an OTS pack by the end of the event\, you get one for coming and playing!\n\n\n$5 per player. \n\nLearn more HERE
URL:https://the-gnoshery.com/event/yu-gi-oh-nights/2030-02-04/
LOCATION:The Gnoshery\, 23 N. 3rd Ave\, STURGEON BAY\, WI\, 54235\, United States
CATEGORIES:Casual Play,Yu-gi-oh
ATTACH;FMTTYPE=image/png:https://the-gnoshery.com/wp-content/uploads/2026/04/SBy-Commander-1.png
END:VEVENT
BEGIN:VEVENT
DTSTART;TZID=America/Chicago:20300211T180000
DTEND;TZID=America/Chicago:20300211T210000
DTSTAMP:20260419T200103
CREATED:20260410T194413Z
LAST-MODIFIED:20260410T194545Z
UID:10008529-1897063200-1897074000@the-gnoshery.com
SUMMARY:Yu-Gi-Oh Nights!
DESCRIPTION:It’s time to d-d-d-duel!!!\n\nIt’s a Monday fun-day tournament!\n\n3 rounds win a match win an OTS pack. If you haven’t received an OTS pack by the end of the event\, you get one for coming and playing!\n\n\n$5 per player. \n\nLearn more HERE
URL:https://the-gnoshery.com/event/yu-gi-oh-nights/2030-02-11/
LOCATION:The Gnoshery\, 23 N. 3rd Ave\, STURGEON BAY\, WI\, 54235\, United States
CATEGORIES:Casual Play,Yu-gi-oh
ATTACH;FMTTYPE=image/png:https://the-gnoshery.com/wp-content/uploads/2026/04/SBy-Commander-1.png
END:VEVENT
BEGIN:VEVENT
DTSTART;TZID=America/Chicago:20300218T180000
DTEND;TZID=America/Chicago:20300218T210000
DTSTAMP:20260419T200103
CREATED:20260410T194413Z
LAST-MODIFIED:20260410T194545Z
UID:10008530-1897668000-1897678800@the-gnoshery.com
SUMMARY:Yu-Gi-Oh Nights!
DESCRIPTION:It’s time to d-d-d-duel!!!\n\nIt’s a Monday fun-day tournament!\n\n3 rounds win a match win an OTS pack. If you haven’t received an OTS pack by the end of the event\, you get one for coming and playing!\n\n\n$5 per player. \n\nLearn more HERE
URL:https://the-gnoshery.com/event/yu-gi-oh-nights/2030-02-18/
LOCATION:The Gnoshery\, 23 N. 3rd Ave\, STURGEON BAY\, WI\, 54235\, United States
CATEGORIES:Casual Play,Yu-gi-oh
ATTACH;FMTTYPE=image/png:https://the-gnoshery.com/wp-content/uploads/2026/04/SBy-Commander-1.png
END:VEVENT
BEGIN:VEVENT
DTSTART;TZID=America/Chicago:20300225T180000
DTEND;TZID=America/Chicago:20300225T210000
DTSTAMP:20260419T200103
CREATED:20260410T194413Z
LAST-MODIFIED:20260410T194545Z
UID:10008531-1898272800-1898283600@the-gnoshery.com
SUMMARY:Yu-Gi-Oh Nights!
DESCRIPTION:It’s time to d-d-d-duel!!!\n\nIt’s a Monday fun-day tournament!\n\n3 rounds win a match win an OTS pack. If you haven’t received an OTS pack by the end of the event\, you get one for coming and playing!\n\n\n$5 per player. \n\nLearn more HERE
URL:https://the-gnoshery.com/event/yu-gi-oh-nights/2030-02-25/
LOCATION:The Gnoshery\, 23 N. 3rd Ave\, STURGEON BAY\, WI\, 54235\, United States
CATEGORIES:Casual Play,Yu-gi-oh
ATTACH;FMTTYPE=image/png:https://the-gnoshery.com/wp-content/uploads/2026/04/SBy-Commander-1.png
END:VEVENT
BEGIN:VEVENT
DTSTART;TZID=America/Chicago:20300304T180000
DTEND;TZID=America/Chicago:20300304T210000
DTSTAMP:20260419T200103
CREATED:20260410T194413Z
LAST-MODIFIED:20260410T194545Z
UID:10008532-1898877600-1898888400@the-gnoshery.com
SUMMARY:Yu-Gi-Oh Nights!
DESCRIPTION:It’s time to d-d-d-duel!!!\n\nIt’s a Monday fun-day tournament!\n\n3 rounds win a match win an OTS pack. If you haven’t received an OTS pack by the end of the event\, you get one for coming and playing!\n\n\n$5 per player. \n\nLearn more HERE
URL:https://the-gnoshery.com/event/yu-gi-oh-nights/2030-03-04/
LOCATION:The Gnoshery\, 23 N. 3rd Ave\, STURGEON BAY\, WI\, 54235\, United States
CATEGORIES:Casual Play,Yu-gi-oh
ATTACH;FMTTYPE=image/png:https://the-gnoshery.com/wp-content/uploads/2026/04/SBy-Commander-1.png
END:VEVENT
BEGIN:VEVENT
DTSTART;TZID=America/Chicago:20300311T180000
DTEND;TZID=America/Chicago:20300311T210000
DTSTAMP:20260419T200103
CREATED:20260410T194413Z
LAST-MODIFIED:20260410T194545Z
UID:10008533-1899482400-1899493200@the-gnoshery.com
SUMMARY:Yu-Gi-Oh Nights!
DESCRIPTION:It’s time to d-d-d-duel!!!\n\nIt’s a Monday fun-day tournament!\n\n3 rounds win a match win an OTS pack. If you haven’t received an OTS pack by the end of the event\, you get one for coming and playing!\n\n\n$5 per player. \n\nLearn more HERE
URL:https://the-gnoshery.com/event/yu-gi-oh-nights/2030-03-11/
LOCATION:The Gnoshery\, 23 N. 3rd Ave\, STURGEON BAY\, WI\, 54235\, United States
CATEGORIES:Casual Play,Yu-gi-oh
ATTACH;FMTTYPE=image/png:https://the-gnoshery.com/wp-content/uploads/2026/04/SBy-Commander-1.png
END:VEVENT
BEGIN:VEVENT
DTSTART;TZID=America/Chicago:20300318T180000
DTEND;TZID=America/Chicago:20300318T210000
DTSTAMP:20260419T200103
CREATED:20260410T194413Z
LAST-MODIFIED:20260410T194545Z
UID:10008534-1900087200-1900098000@the-gnoshery.com
SUMMARY:Yu-Gi-Oh Nights!
DESCRIPTION:It’s time to d-d-d-duel!!!\n\nIt’s a Monday fun-day tournament!\n\n3 rounds win a match win an OTS pack. If you haven’t received an OTS pack by the end of the event\, you get one for coming and playing!\n\n\n$5 per player. \n\nLearn more HERE
URL:https://the-gnoshery.com/event/yu-gi-oh-nights/2030-03-18/
LOCATION:The Gnoshery\, 23 N. 3rd Ave\, STURGEON BAY\, WI\, 54235\, United States
CATEGORIES:Casual Play,Yu-gi-oh
ATTACH;FMTTYPE=image/png:https://the-gnoshery.com/wp-content/uploads/2026/04/SBy-Commander-1.png
END:VEVENT
BEGIN:VEVENT
DTSTART;TZID=America/Chicago:20300325T180000
DTEND;TZID=America/Chicago:20300325T210000
DTSTAMP:20260419T200103
CREATED:20260410T194413Z
LAST-MODIFIED:20260410T194545Z
UID:10008535-1900692000-1900702800@the-gnoshery.com
SUMMARY:Yu-Gi-Oh Nights!
DESCRIPTION:It’s time to d-d-d-duel!!!\n\nIt’s a Monday fun-day tournament!\n\n3 rounds win a match win an OTS pack. If you haven’t received an OTS pack by the end of the event\, you get one for coming and playing!\n\n\n$5 per player. \n\nLearn more HERE
URL:https://the-gnoshery.com/event/yu-gi-oh-nights/2030-03-25/
LOCATION:The Gnoshery\, 23 N. 3rd Ave\, STURGEON BAY\, WI\, 54235\, United States
CATEGORIES:Casual Play,Yu-gi-oh
ATTACH;FMTTYPE=image/png:https://the-gnoshery.com/wp-content/uploads/2026/04/SBy-Commander-1.png
END:VEVENT
BEGIN:VEVENT
DTSTART;TZID=America/Chicago:20300401T180000
DTEND;TZID=America/Chicago:20300401T210000
DTSTAMP:20260419T200103
CREATED:20260410T194413Z
LAST-MODIFIED:20260410T194545Z
UID:10008536-1901296800-1901307600@the-gnoshery.com
SUMMARY:Yu-Gi-Oh Nights!
DESCRIPTION:It’s time to d-d-d-duel!!!\n\nIt’s a Monday fun-day tournament!\n\n3 rounds win a match win an OTS pack. If you haven’t received an OTS pack by the end of the event\, you get one for coming and playing!\n\n\n$5 per player. \n\nLearn more HERE
URL:https://the-gnoshery.com/event/yu-gi-oh-nights/2030-04-01/
LOCATION:The Gnoshery\, 23 N. 3rd Ave\, STURGEON BAY\, WI\, 54235\, United States
CATEGORIES:Casual Play,Yu-gi-oh
ATTACH;FMTTYPE=image/png:https://the-gnoshery.com/wp-content/uploads/2026/04/SBy-Commander-1.png
END:VEVENT
BEGIN:VEVENT
DTSTART;TZID=America/Chicago:20300408T180000
DTEND;TZID=America/Chicago:20300408T210000
DTSTAMP:20260419T200103
CREATED:20260410T194413Z
LAST-MODIFIED:20260410T194545Z
UID:10008537-1901901600-1901912400@the-gnoshery.com
SUMMARY:Yu-Gi-Oh Nights!
DESCRIPTION:It’s time to d-d-d-duel!!!\n\nIt’s a Monday fun-day tournament!\n\n3 rounds win a match win an OTS pack. If you haven’t received an OTS pack by the end of the event\, you get one for coming and playing!\n\n\n$5 per player. \n\nLearn more HERE
URL:https://the-gnoshery.com/event/yu-gi-oh-nights/2030-04-08/
LOCATION:The Gnoshery\, 23 N. 3rd Ave\, STURGEON BAY\, WI\, 54235\, United States
CATEGORIES:Casual Play,Yu-gi-oh
ATTACH;FMTTYPE=image/png:https://the-gnoshery.com/wp-content/uploads/2026/04/SBy-Commander-1.png
END:VEVENT
BEGIN:VEVENT
DTSTART;TZID=America/Chicago:20300415T180000
DTEND;TZID=America/Chicago:20300415T210000
DTSTAMP:20260419T200103
CREATED:20260410T194413Z
LAST-MODIFIED:20260410T194545Z
UID:10008538-1902506400-1902517200@the-gnoshery.com
SUMMARY:Yu-Gi-Oh Nights!
DESCRIPTION:It’s time to d-d-d-duel!!!\n\nIt’s a Monday fun-day tournament!\n\n3 rounds win a match win an OTS pack. If you haven’t received an OTS pack by the end of the event\, you get one for coming and playing!\n\n\n$5 per player. \n\nLearn more HERE
URL:https://the-gnoshery.com/event/yu-gi-oh-nights/2030-04-15/
LOCATION:The Gnoshery\, 23 N. 3rd Ave\, STURGEON BAY\, WI\, 54235\, United States
CATEGORIES:Casual Play,Yu-gi-oh
ATTACH;FMTTYPE=image/png:https://the-gnoshery.com/wp-content/uploads/2026/04/SBy-Commander-1.png
END:VEVENT
BEGIN:VEVENT
DTSTART;TZID=America/Chicago:20300422T180000
DTEND;TZID=America/Chicago:20300422T210000
DTSTAMP:20260419T200103
CREATED:20260410T194413Z
LAST-MODIFIED:20260410T194545Z
UID:10008539-1903111200-1903122000@the-gnoshery.com
SUMMARY:Yu-Gi-Oh Nights!
DESCRIPTION:It’s time to d-d-d-duel!!!\n\nIt’s a Monday fun-day tournament!\n\n3 rounds win a match win an OTS pack. If you haven’t received an OTS pack by the end of the event\, you get one for coming and playing!\n\n\n$5 per player. \n\nLearn more HERE
URL:https://the-gnoshery.com/event/yu-gi-oh-nights/2030-04-22/
LOCATION:The Gnoshery\, 23 N. 3rd Ave\, STURGEON BAY\, WI\, 54235\, United States
CATEGORIES:Casual Play,Yu-gi-oh
ATTACH;FMTTYPE=image/png:https://the-gnoshery.com/wp-content/uploads/2026/04/SBy-Commander-1.png
END:VEVENT
BEGIN:VEVENT
DTSTART;TZID=America/Chicago:20300429T180000
DTEND;TZID=America/Chicago:20300429T210000
DTSTAMP:20260419T200103
CREATED:20260410T194413Z
LAST-MODIFIED:20260410T194545Z
UID:10008540-1903716000-1903726800@the-gnoshery.com
SUMMARY:Yu-Gi-Oh Nights!
DESCRIPTION:It’s time to d-d-d-duel!!!\n\nIt’s a Monday fun-day tournament!\n\n3 rounds win a match win an OTS pack. If you haven’t received an OTS pack by the end of the event\, you get one for coming and playing!\n\n\n$5 per player. \n\nLearn more HERE
URL:https://the-gnoshery.com/event/yu-gi-oh-nights/2030-04-29/
LOCATION:The Gnoshery\, 23 N. 3rd Ave\, STURGEON BAY\, WI\, 54235\, United States
CATEGORIES:Casual Play,Yu-gi-oh
ATTACH;FMTTYPE=image/png:https://the-gnoshery.com/wp-content/uploads/2026/04/SBy-Commander-1.png
END:VEVENT
BEGIN:VEVENT
DTSTART;TZID=America/Chicago:20300506T180000
DTEND;TZID=America/Chicago:20300506T210000
DTSTAMP:20260419T200103
CREATED:20260410T194413Z
LAST-MODIFIED:20260410T194545Z
UID:10008541-1904320800-1904331600@the-gnoshery.com
SUMMARY:Yu-Gi-Oh Nights!
DESCRIPTION:It’s time to d-d-d-duel!!!\n\nIt’s a Monday fun-day tournament!\n\n3 rounds win a match win an OTS pack. If you haven’t received an OTS pack by the end of the event\, you get one for coming and playing!\n\n\n$5 per player. \n\nLearn more HERE
URL:https://the-gnoshery.com/event/yu-gi-oh-nights/2030-05-06/
LOCATION:The Gnoshery\, 23 N. 3rd Ave\, STURGEON BAY\, WI\, 54235\, United States
CATEGORIES:Casual Play,Yu-gi-oh
ATTACH;FMTTYPE=image/png:https://the-gnoshery.com/wp-content/uploads/2026/04/SBy-Commander-1.png
END:VEVENT
BEGIN:VEVENT
DTSTART;TZID=America/Chicago:20300513T180000
DTEND;TZID=America/Chicago:20300513T210000
DTSTAMP:20260419T200103
CREATED:20260410T194413Z
LAST-MODIFIED:20260410T194545Z
UID:10008542-1904925600-1904936400@the-gnoshery.com
SUMMARY:Yu-Gi-Oh Nights!
DESCRIPTION:It’s time to d-d-d-duel!!!\n\nIt’s a Monday fun-day tournament!\n\n3 rounds win a match win an OTS pack. If you haven’t received an OTS pack by the end of the event\, you get one for coming and playing!\n\n\n$5 per player. \n\nLearn more HERE
URL:https://the-gnoshery.com/event/yu-gi-oh-nights/2030-05-13/
LOCATION:The Gnoshery\, 23 N. 3rd Ave\, STURGEON BAY\, WI\, 54235\, United States
CATEGORIES:Casual Play,Yu-gi-oh
ATTACH;FMTTYPE=image/png:https://the-gnoshery.com/wp-content/uploads/2026/04/SBy-Commander-1.png
END:VEVENT
BEGIN:VEVENT
DTSTART;TZID=America/Chicago:20300520T180000
DTEND;TZID=America/Chicago:20300520T210000
DTSTAMP:20260419T200103
CREATED:20260410T194413Z
LAST-MODIFIED:20260410T194545Z
UID:10008543-1905530400-1905541200@the-gnoshery.com
SUMMARY:Yu-Gi-Oh Nights!
DESCRIPTION:It’s time to d-d-d-duel!!!\n\nIt’s a Monday fun-day tournament!\n\n3 rounds win a match win an OTS pack. If you haven’t received an OTS pack by the end of the event\, you get one for coming and playing!\n\n\n$5 per player. \n\nLearn more HERE
URL:https://the-gnoshery.com/event/yu-gi-oh-nights/2030-05-20/
LOCATION:The Gnoshery\, 23 N. 3rd Ave\, STURGEON BAY\, WI\, 54235\, United States
CATEGORIES:Casual Play,Yu-gi-oh
ATTACH;FMTTYPE=image/png:https://the-gnoshery.com/wp-content/uploads/2026/04/SBy-Commander-1.png
END:VEVENT
BEGIN:VEVENT
DTSTART;TZID=America/Chicago:20300527T180000
DTEND;TZID=America/Chicago:20300527T210000
DTSTAMP:20260419T200103
CREATED:20260410T194413Z
LAST-MODIFIED:20260410T194545Z
UID:10008544-1906135200-1906146000@the-gnoshery.com
SUMMARY:Yu-Gi-Oh Nights!
DESCRIPTION:It’s time to d-d-d-duel!!!\n\nIt’s a Monday fun-day tournament!\n\n3 rounds win a match win an OTS pack. If you haven’t received an OTS pack by the end of the event\, you get one for coming and playing!\n\n\n$5 per player. \n\nLearn more HERE
URL:https://the-gnoshery.com/event/yu-gi-oh-nights/2030-05-27/
LOCATION:The Gnoshery\, 23 N. 3rd Ave\, STURGEON BAY\, WI\, 54235\, United States
CATEGORIES:Casual Play,Yu-gi-oh
ATTACH;FMTTYPE=image/png:https://the-gnoshery.com/wp-content/uploads/2026/04/SBy-Commander-1.png
END:VEVENT
BEGIN:VEVENT
DTSTART;TZID=America/Chicago:20300603T180000
DTEND;TZID=America/Chicago:20300603T210000
DTSTAMP:20260419T200103
CREATED:20260410T194413Z
LAST-MODIFIED:20260410T194545Z
UID:10008545-1906740000-1906750800@the-gnoshery.com
SUMMARY:Yu-Gi-Oh Nights!
DESCRIPTION:It’s time to d-d-d-duel!!!\n\nIt’s a Monday fun-day tournament!\n\n3 rounds win a match win an OTS pack. If you haven’t received an OTS pack by the end of the event\, you get one for coming and playing!\n\n\n$5 per player. \n\nLearn more HERE
URL:https://the-gnoshery.com/event/yu-gi-oh-nights/2030-06-03/
LOCATION:The Gnoshery\, 23 N. 3rd Ave\, STURGEON BAY\, WI\, 54235\, United States
CATEGORIES:Casual Play,Yu-gi-oh
ATTACH;FMTTYPE=image/png:https://the-gnoshery.com/wp-content/uploads/2026/04/SBy-Commander-1.png
END:VEVENT
BEGIN:VEVENT
DTSTART;TZID=America/Chicago:20300610T180000
DTEND;TZID=America/Chicago:20300610T210000
DTSTAMP:20260419T200103
CREATED:20260410T194413Z
LAST-MODIFIED:20260410T194545Z
UID:10008546-1907344800-1907355600@the-gnoshery.com
SUMMARY:Yu-Gi-Oh Nights!
DESCRIPTION:It’s time to d-d-d-duel!!!\n\nIt’s a Monday fun-day tournament!\n\n3 rounds win a match win an OTS pack. If you haven’t received an OTS pack by the end of the event\, you get one for coming and playing!\n\n\n$5 per player. \n\nLearn more HERE
URL:https://the-gnoshery.com/event/yu-gi-oh-nights/2030-06-10/
LOCATION:The Gnoshery\, 23 N. 3rd Ave\, STURGEON BAY\, WI\, 54235\, United States
CATEGORIES:Casual Play,Yu-gi-oh
ATTACH;FMTTYPE=image/png:https://the-gnoshery.com/wp-content/uploads/2026/04/SBy-Commander-1.png
END:VEVENT
BEGIN:VEVENT
DTSTART;TZID=America/Chicago:20300617T180000
DTEND;TZID=America/Chicago:20300617T210000
DTSTAMP:20260419T200103
CREATED:20260410T194413Z
LAST-MODIFIED:20260410T194545Z
UID:10008547-1907949600-1907960400@the-gnoshery.com
SUMMARY:Yu-Gi-Oh Nights!
DESCRIPTION:It’s time to d-d-d-duel!!!\n\nIt’s a Monday fun-day tournament!\n\n3 rounds win a match win an OTS pack. If you haven’t received an OTS pack by the end of the event\, you get one for coming and playing!\n\n\n$5 per player. \n\nLearn more HERE
URL:https://the-gnoshery.com/event/yu-gi-oh-nights/2030-06-17/
LOCATION:The Gnoshery\, 23 N. 3rd Ave\, STURGEON BAY\, WI\, 54235\, United States
CATEGORIES:Casual Play,Yu-gi-oh
ATTACH;FMTTYPE=image/png:https://the-gnoshery.com/wp-content/uploads/2026/04/SBy-Commander-1.png
END:VEVENT
BEGIN:VEVENT
DTSTART;TZID=America/Chicago:20300624T180000
DTEND;TZID=America/Chicago:20300624T210000
DTSTAMP:20260419T200103
CREATED:20260410T194413Z
LAST-MODIFIED:20260410T194545Z
UID:10008548-1908554400-1908565200@the-gnoshery.com
SUMMARY:Yu-Gi-Oh Nights!
DESCRIPTION:It’s time to d-d-d-duel!!!\n\nIt’s a Monday fun-day tournament!\n\n3 rounds win a match win an OTS pack. If you haven’t received an OTS pack by the end of the event\, you get one for coming and playing!\n\n\n$5 per player. \n\nLearn more HERE
URL:https://the-gnoshery.com/event/yu-gi-oh-nights/2030-06-24/
LOCATION:The Gnoshery\, 23 N. 3rd Ave\, STURGEON BAY\, WI\, 54235\, United States
CATEGORIES:Casual Play,Yu-gi-oh
ATTACH;FMTTYPE=image/png:https://the-gnoshery.com/wp-content/uploads/2026/04/SBy-Commander-1.png
END:VEVENT
BEGIN:VEVENT
DTSTART;TZID=America/Chicago:20300701T180000
DTEND;TZID=America/Chicago:20300701T210000
DTSTAMP:20260419T200103
CREATED:20260410T194413Z
LAST-MODIFIED:20260410T194545Z
UID:10008549-1909159200-1909170000@the-gnoshery.com
SUMMARY:Yu-Gi-Oh Nights!
DESCRIPTION:It’s time to d-d-d-duel!!!\n\nIt’s a Monday fun-day tournament!\n\n3 rounds win a match win an OTS pack. If you haven’t received an OTS pack by the end of the event\, you get one for coming and playing!\n\n\n$5 per player. \n\nLearn more HERE
URL:https://the-gnoshery.com/event/yu-gi-oh-nights/2030-07-01/
LOCATION:The Gnoshery\, 23 N. 3rd Ave\, STURGEON BAY\, WI\, 54235\, United States
CATEGORIES:Casual Play,Yu-gi-oh
ATTACH;FMTTYPE=image/png:https://the-gnoshery.com/wp-content/uploads/2026/04/SBy-Commander-1.png
END:VEVENT
BEGIN:VEVENT
DTSTART;TZID=America/Chicago:20300708T180000
DTEND;TZID=America/Chicago:20300708T210000
DTSTAMP:20260419T200103
CREATED:20260410T194413Z
LAST-MODIFIED:20260410T194545Z
UID:10008550-1909764000-1909774800@the-gnoshery.com
SUMMARY:Yu-Gi-Oh Nights!
DESCRIPTION:It’s time to d-d-d-duel!!!\n\nIt’s a Monday fun-day tournament!\n\n3 rounds win a match win an OTS pack. If you haven’t received an OTS pack by the end of the event\, you get one for coming and playing!\n\n\n$5 per player. \n\nLearn more HERE
URL:https://the-gnoshery.com/event/yu-gi-oh-nights/2030-07-08/
LOCATION:The Gnoshery\, 23 N. 3rd Ave\, STURGEON BAY\, WI\, 54235\, United States
CATEGORIES:Casual Play,Yu-gi-oh
ATTACH;FMTTYPE=image/png:https://the-gnoshery.com/wp-content/uploads/2026/04/SBy-Commander-1.png
END:VEVENT
BEGIN:VEVENT
DTSTART;TZID=America/Chicago:20300715T180000
DTEND;TZID=America/Chicago:20300715T210000
DTSTAMP:20260419T200103
CREATED:20260410T194413Z
LAST-MODIFIED:20260410T194545Z
UID:10008551-1910368800-1910379600@the-gnoshery.com
SUMMARY:Yu-Gi-Oh Nights!
DESCRIPTION:It’s time to d-d-d-duel!!!\n\nIt’s a Monday fun-day tournament!\n\n3 rounds win a match win an OTS pack. If you haven’t received an OTS pack by the end of the event\, you get one for coming and playing!\n\n\n$5 per player. \n\nLearn more HERE
URL:https://the-gnoshery.com/event/yu-gi-oh-nights/2030-07-15/
LOCATION:The Gnoshery\, 23 N. 3rd Ave\, STURGEON BAY\, WI\, 54235\, United States
CATEGORIES:Casual Play,Yu-gi-oh
ATTACH;FMTTYPE=image/png:https://the-gnoshery.com/wp-content/uploads/2026/04/SBy-Commander-1.png
END:VEVENT
BEGIN:VEVENT
DTSTART;TZID=America/Chicago:20300722T180000
DTEND;TZID=America/Chicago:20300722T210000
DTSTAMP:20260419T200103
CREATED:20260410T194413Z
LAST-MODIFIED:20260410T194545Z
UID:10008552-1910973600-1910984400@the-gnoshery.com
SUMMARY:Yu-Gi-Oh Nights!
DESCRIPTION:It’s time to d-d-d-duel!!!\n\nIt’s a Monday fun-day tournament!\n\n3 rounds win a match win an OTS pack. If you haven’t received an OTS pack by the end of the event\, you get one for coming and playing!\n\n\n$5 per player. \n\nLearn more HERE
URL:https://the-gnoshery.com/event/yu-gi-oh-nights/2030-07-22/
LOCATION:The Gnoshery\, 23 N. 3rd Ave\, STURGEON BAY\, WI\, 54235\, United States
CATEGORIES:Casual Play,Yu-gi-oh
ATTACH;FMTTYPE=image/png:https://the-gnoshery.com/wp-content/uploads/2026/04/SBy-Commander-1.png
END:VEVENT
BEGIN:VEVENT
DTSTART;TZID=America/Chicago:20300729T180000
DTEND;TZID=America/Chicago:20300729T210000
DTSTAMP:20260419T200103
CREATED:20260410T194413Z
LAST-MODIFIED:20260410T194545Z
UID:10008553-1911578400-1911589200@the-gnoshery.com
SUMMARY:Yu-Gi-Oh Nights!
DESCRIPTION:It’s time to d-d-d-duel!!!\n\nIt’s a Monday fun-day tournament!\n\n3 rounds win a match win an OTS pack. If you haven’t received an OTS pack by the end of the event\, you get one for coming and playing!\n\n\n$5 per player. \n\nLearn more HERE
URL:https://the-gnoshery.com/event/yu-gi-oh-nights/2030-07-29/
LOCATION:The Gnoshery\, 23 N. 3rd Ave\, STURGEON BAY\, WI\, 54235\, United States
CATEGORIES:Casual Play,Yu-gi-oh
ATTACH;FMTTYPE=image/png:https://the-gnoshery.com/wp-content/uploads/2026/04/SBy-Commander-1.png
END:VEVENT
BEGIN:VEVENT
DTSTART;TZID=America/Chicago:20300805T180000
DTEND;TZID=America/Chicago:20300805T210000
DTSTAMP:20260419T200103
CREATED:20260410T194413Z
LAST-MODIFIED:20260410T194545Z
UID:10008554-1912183200-1912194000@the-gnoshery.com
SUMMARY:Yu-Gi-Oh Nights!
DESCRIPTION:It’s time to d-d-d-duel!!!\n\nIt’s a Monday fun-day tournament!\n\n3 rounds win a match win an OTS pack. If you haven’t received an OTS pack by the end of the event\, you get one for coming and playing!\n\n\n$5 per player. \n\nLearn more HERE
URL:https://the-gnoshery.com/event/yu-gi-oh-nights/2030-08-05/
LOCATION:The Gnoshery\, 23 N. 3rd Ave\, STURGEON BAY\, WI\, 54235\, United States
CATEGORIES:Casual Play,Yu-gi-oh
ATTACH;FMTTYPE=image/png:https://the-gnoshery.com/wp-content/uploads/2026/04/SBy-Commander-1.png
END:VEVENT
END:VCALENDAR