BEGIN:VCALENDAR
VERSION:2.0
PRODID:-//The Gnoshery - ECPv6.15.20//NONSGML v1.0//EN
CALSCALE:GREGORIAN
METHOD:PUBLISH
X-ORIGINAL-URL:https://the-gnoshery.com
X-WR-CALDESC:Events for The Gnoshery
REFRESH-INTERVAL;VALUE=DURATION:PT1H
X-Robots-Tag:noindex
X-PUBLISHED-TTL:PT1H
BEGIN:VTIMEZONE
TZID:America/Chicago
BEGIN:DAYLIGHT
TZOFFSETFROM:-0600
TZOFFSETTO:-0500
TZNAME:CDT
DTSTART:20300310T080000
END:DAYLIGHT
BEGIN:STANDARD
TZOFFSETFROM:-0500
TZOFFSETTO:-0600
TZNAME:CST
DTSTART:20301103T070000
END:STANDARD
BEGIN:DAYLIGHT
TZOFFSETFROM:-0600
TZOFFSETTO:-0500
TZNAME:CDT
DTSTART:20310309T080000
END:DAYLIGHT
BEGIN:STANDARD
TZOFFSETFROM:-0500
TZOFFSETTO:-0600
TZNAME:CST
DTSTART:20311102T070000
END:STANDARD
BEGIN:DAYLIGHT
TZOFFSETFROM:-0600
TZOFFSETTO:-0500
TZNAME:CDT
DTSTART:20320314T080000
END:DAYLIGHT
BEGIN:STANDARD
TZOFFSETFROM:-0500
TZOFFSETTO:-0600
TZNAME:CST
DTSTART:20321107T070000
END:STANDARD
END:VTIMEZONE
BEGIN:VEVENT
DTSTART;TZID=America/Chicago:20310221T180000
DTEND;TZID=America/Chicago:20310221T210000
DTSTAMP:20260422T215559
CREATED:20241220T214147Z
LAST-MODIFIED:20260410T202728Z
UID:10009698-1929463200-1929474000@the-gnoshery.com
SUMMARY:Magic Commander Nights!
DESCRIPTION: Commander Nights are here! \nLooking for some casual fun with Magic: The Gathering? Join us every Monday & Friday from 6 PM – 9 PM for Commander Nights! \nGrab a bite to eat\, meet fellow planeswalkers\, and dive into epic Commander battles! Whether you’re a seasoned pro or just starting your journey\, it’s all about good vibes\, friendly competition\, and\, of course\, fun.\n Bring your favorite deck\, try something new\, or just watch the magic unfold. Great food\, great friends\, and great games await!\n See you there—let’s make some legendary memories!\n\nEntry Fee options: $5 Dollars\, a cafe purchase (food or beverage)\, or a Magic The Gathering purchase.
URL:https://the-gnoshery.com/event/magic-commander-nights/2031-02-21/
LOCATION:The Gnoshery\, 23 N. 3rd Ave\, STURGEON BAY\, WI\, 54235\, United States
CATEGORIES:Magic the Gathering
ATTACH;FMTTYPE=image/png:https://the-gnoshery.com/wp-content/uploads/2024/12/SBy-Commander.png
END:VEVENT
BEGIN:VEVENT
DTSTART;TZID=America/Chicago:20310224T180000
DTEND;TZID=America/Chicago:20310224T210000
DTSTAMP:20260422T215559
CREATED:20241220T214147Z
LAST-MODIFIED:20260410T202728Z
UID:10009699-1929722400-1929733200@the-gnoshery.com
SUMMARY:Magic Commander Nights!
DESCRIPTION: Commander Nights are here! \nLooking for some casual fun with Magic: The Gathering? Join us every Monday & Friday from 6 PM – 9 PM for Commander Nights! \nGrab a bite to eat\, meet fellow planeswalkers\, and dive into epic Commander battles! Whether you’re a seasoned pro or just starting your journey\, it’s all about good vibes\, friendly competition\, and\, of course\, fun.\n Bring your favorite deck\, try something new\, or just watch the magic unfold. Great food\, great friends\, and great games await!\n See you there—let’s make some legendary memories!\n\nEntry Fee options: $5 Dollars\, a cafe purchase (food or beverage)\, or a Magic The Gathering purchase.
URL:https://the-gnoshery.com/event/magic-commander-nights/2031-02-24/
LOCATION:The Gnoshery\, 23 N. 3rd Ave\, STURGEON BAY\, WI\, 54235\, United States
CATEGORIES:Magic the Gathering
ATTACH;FMTTYPE=image/png:https://the-gnoshery.com/wp-content/uploads/2024/12/SBy-Commander.png
END:VEVENT
BEGIN:VEVENT
DTSTART;TZID=America/Chicago:20310228T180000
DTEND;TZID=America/Chicago:20310228T210000
DTSTAMP:20260422T215559
CREATED:20241220T214147Z
LAST-MODIFIED:20260410T202728Z
UID:10009700-1930068000-1930078800@the-gnoshery.com
SUMMARY:Magic Commander Nights!
DESCRIPTION: Commander Nights are here! \nLooking for some casual fun with Magic: The Gathering? Join us every Monday & Friday from 6 PM – 9 PM for Commander Nights! \nGrab a bite to eat\, meet fellow planeswalkers\, and dive into epic Commander battles! Whether you’re a seasoned pro or just starting your journey\, it’s all about good vibes\, friendly competition\, and\, of course\, fun.\n Bring your favorite deck\, try something new\, or just watch the magic unfold. Great food\, great friends\, and great games await!\n See you there—let’s make some legendary memories!\n\nEntry Fee options: $5 Dollars\, a cafe purchase (food or beverage)\, or a Magic The Gathering purchase.
URL:https://the-gnoshery.com/event/magic-commander-nights/2031-02-28/
LOCATION:The Gnoshery\, 23 N. 3rd Ave\, STURGEON BAY\, WI\, 54235\, United States
CATEGORIES:Magic the Gathering
ATTACH;FMTTYPE=image/png:https://the-gnoshery.com/wp-content/uploads/2024/12/SBy-Commander.png
END:VEVENT
BEGIN:VEVENT
DTSTART;TZID=America/Chicago:20310303T180000
DTEND;TZID=America/Chicago:20310303T210000
DTSTAMP:20260422T215559
CREATED:20241220T214147Z
LAST-MODIFIED:20260410T202728Z
UID:10009701-1930327200-1930338000@the-gnoshery.com
SUMMARY:Magic Commander Nights!
DESCRIPTION: Commander Nights are here! \nLooking for some casual fun with Magic: The Gathering? Join us every Monday & Friday from 6 PM – 9 PM for Commander Nights! \nGrab a bite to eat\, meet fellow planeswalkers\, and dive into epic Commander battles! Whether you’re a seasoned pro or just starting your journey\, it’s all about good vibes\, friendly competition\, and\, of course\, fun.\n Bring your favorite deck\, try something new\, or just watch the magic unfold. Great food\, great friends\, and great games await!\n See you there—let’s make some legendary memories!\n\nEntry Fee options: $5 Dollars\, a cafe purchase (food or beverage)\, or a Magic The Gathering purchase.
URL:https://the-gnoshery.com/event/magic-commander-nights/2031-03-03/
LOCATION:The Gnoshery\, 23 N. 3rd Ave\, STURGEON BAY\, WI\, 54235\, United States
CATEGORIES:Magic the Gathering
ATTACH;FMTTYPE=image/png:https://the-gnoshery.com/wp-content/uploads/2024/12/SBy-Commander.png
END:VEVENT
BEGIN:VEVENT
DTSTART;TZID=America/Chicago:20310307T180000
DTEND;TZID=America/Chicago:20310307T210000
DTSTAMP:20260422T215559
CREATED:20241220T214147Z
LAST-MODIFIED:20260410T202728Z
UID:10009702-1930672800-1930683600@the-gnoshery.com
SUMMARY:Magic Commander Nights!
DESCRIPTION: Commander Nights are here! \nLooking for some casual fun with Magic: The Gathering? Join us every Monday & Friday from 6 PM – 9 PM for Commander Nights! \nGrab a bite to eat\, meet fellow planeswalkers\, and dive into epic Commander battles! Whether you’re a seasoned pro or just starting your journey\, it’s all about good vibes\, friendly competition\, and\, of course\, fun.\n Bring your favorite deck\, try something new\, or just watch the magic unfold. Great food\, great friends\, and great games await!\n See you there—let’s make some legendary memories!\n\nEntry Fee options: $5 Dollars\, a cafe purchase (food or beverage)\, or a Magic The Gathering purchase.
URL:https://the-gnoshery.com/event/magic-commander-nights/2031-03-07/
LOCATION:The Gnoshery\, 23 N. 3rd Ave\, STURGEON BAY\, WI\, 54235\, United States
CATEGORIES:Magic the Gathering
ATTACH;FMTTYPE=image/png:https://the-gnoshery.com/wp-content/uploads/2024/12/SBy-Commander.png
END:VEVENT
BEGIN:VEVENT
DTSTART;TZID=America/Chicago:20310310T180000
DTEND;TZID=America/Chicago:20310310T210000
DTSTAMP:20260422T215559
CREATED:20241220T214147Z
LAST-MODIFIED:20260410T202728Z
UID:10009703-1930932000-1930942800@the-gnoshery.com
SUMMARY:Magic Commander Nights!
DESCRIPTION: Commander Nights are here! \nLooking for some casual fun with Magic: The Gathering? Join us every Monday & Friday from 6 PM – 9 PM for Commander Nights! \nGrab a bite to eat\, meet fellow planeswalkers\, and dive into epic Commander battles! Whether you’re a seasoned pro or just starting your journey\, it’s all about good vibes\, friendly competition\, and\, of course\, fun.\n Bring your favorite deck\, try something new\, or just watch the magic unfold. Great food\, great friends\, and great games await!\n See you there—let’s make some legendary memories!\n\nEntry Fee options: $5 Dollars\, a cafe purchase (food or beverage)\, or a Magic The Gathering purchase.
URL:https://the-gnoshery.com/event/magic-commander-nights/2031-03-10/
LOCATION:The Gnoshery\, 23 N. 3rd Ave\, STURGEON BAY\, WI\, 54235\, United States
CATEGORIES:Magic the Gathering
ATTACH;FMTTYPE=image/png:https://the-gnoshery.com/wp-content/uploads/2024/12/SBy-Commander.png
END:VEVENT
BEGIN:VEVENT
DTSTART;TZID=America/Chicago:20310314T180000
DTEND;TZID=America/Chicago:20310314T210000
DTSTAMP:20260422T215559
CREATED:20241220T214147Z
LAST-MODIFIED:20260410T202728Z
UID:10009704-1931277600-1931288400@the-gnoshery.com
SUMMARY:Magic Commander Nights!
DESCRIPTION: Commander Nights are here! \nLooking for some casual fun with Magic: The Gathering? Join us every Monday & Friday from 6 PM – 9 PM for Commander Nights! \nGrab a bite to eat\, meet fellow planeswalkers\, and dive into epic Commander battles! Whether you’re a seasoned pro or just starting your journey\, it’s all about good vibes\, friendly competition\, and\, of course\, fun.\n Bring your favorite deck\, try something new\, or just watch the magic unfold. Great food\, great friends\, and great games await!\n See you there—let’s make some legendary memories!\n\nEntry Fee options: $5 Dollars\, a cafe purchase (food or beverage)\, or a Magic The Gathering purchase.
URL:https://the-gnoshery.com/event/magic-commander-nights/2031-03-14/
LOCATION:The Gnoshery\, 23 N. 3rd Ave\, STURGEON BAY\, WI\, 54235\, United States
CATEGORIES:Magic the Gathering
ATTACH;FMTTYPE=image/png:https://the-gnoshery.com/wp-content/uploads/2024/12/SBy-Commander.png
END:VEVENT
BEGIN:VEVENT
DTSTART;TZID=America/Chicago:20310317T180000
DTEND;TZID=America/Chicago:20310317T210000
DTSTAMP:20260422T215559
CREATED:20241220T214147Z
LAST-MODIFIED:20260410T202728Z
UID:10009705-1931536800-1931547600@the-gnoshery.com
SUMMARY:Magic Commander Nights!
DESCRIPTION: Commander Nights are here! \nLooking for some casual fun with Magic: The Gathering? Join us every Monday & Friday from 6 PM – 9 PM for Commander Nights! \nGrab a bite to eat\, meet fellow planeswalkers\, and dive into epic Commander battles! Whether you’re a seasoned pro or just starting your journey\, it’s all about good vibes\, friendly competition\, and\, of course\, fun.\n Bring your favorite deck\, try something new\, or just watch the magic unfold. Great food\, great friends\, and great games await!\n See you there—let’s make some legendary memories!\n\nEntry Fee options: $5 Dollars\, a cafe purchase (food or beverage)\, or a Magic The Gathering purchase.
URL:https://the-gnoshery.com/event/magic-commander-nights/2031-03-17/
LOCATION:The Gnoshery\, 23 N. 3rd Ave\, STURGEON BAY\, WI\, 54235\, United States
CATEGORIES:Magic the Gathering
ATTACH;FMTTYPE=image/png:https://the-gnoshery.com/wp-content/uploads/2024/12/SBy-Commander.png
END:VEVENT
BEGIN:VEVENT
DTSTART;TZID=America/Chicago:20310321T180000
DTEND;TZID=America/Chicago:20310321T210000
DTSTAMP:20260422T215559
CREATED:20241220T214147Z
LAST-MODIFIED:20260410T202728Z
UID:10009706-1931882400-1931893200@the-gnoshery.com
SUMMARY:Magic Commander Nights!
DESCRIPTION: Commander Nights are here! \nLooking for some casual fun with Magic: The Gathering? Join us every Monday & Friday from 6 PM – 9 PM for Commander Nights! \nGrab a bite to eat\, meet fellow planeswalkers\, and dive into epic Commander battles! Whether you’re a seasoned pro or just starting your journey\, it’s all about good vibes\, friendly competition\, and\, of course\, fun.\n Bring your favorite deck\, try something new\, or just watch the magic unfold. Great food\, great friends\, and great games await!\n See you there—let’s make some legendary memories!\n\nEntry Fee options: $5 Dollars\, a cafe purchase (food or beverage)\, or a Magic The Gathering purchase.
URL:https://the-gnoshery.com/event/magic-commander-nights/2031-03-21/
LOCATION:The Gnoshery\, 23 N. 3rd Ave\, STURGEON BAY\, WI\, 54235\, United States
CATEGORIES:Magic the Gathering
ATTACH;FMTTYPE=image/png:https://the-gnoshery.com/wp-content/uploads/2024/12/SBy-Commander.png
END:VEVENT
BEGIN:VEVENT
DTSTART;TZID=America/Chicago:20310324T180000
DTEND;TZID=America/Chicago:20310324T210000
DTSTAMP:20260422T215559
CREATED:20241220T214147Z
LAST-MODIFIED:20260410T202728Z
UID:10009707-1932141600-1932152400@the-gnoshery.com
SUMMARY:Magic Commander Nights!
DESCRIPTION: Commander Nights are here! \nLooking for some casual fun with Magic: The Gathering? Join us every Monday & Friday from 6 PM – 9 PM for Commander Nights! \nGrab a bite to eat\, meet fellow planeswalkers\, and dive into epic Commander battles! Whether you’re a seasoned pro or just starting your journey\, it’s all about good vibes\, friendly competition\, and\, of course\, fun.\n Bring your favorite deck\, try something new\, or just watch the magic unfold. Great food\, great friends\, and great games await!\n See you there—let’s make some legendary memories!\n\nEntry Fee options: $5 Dollars\, a cafe purchase (food or beverage)\, or a Magic The Gathering purchase.
URL:https://the-gnoshery.com/event/magic-commander-nights/2031-03-24/
LOCATION:The Gnoshery\, 23 N. 3rd Ave\, STURGEON BAY\, WI\, 54235\, United States
CATEGORIES:Magic the Gathering
ATTACH;FMTTYPE=image/png:https://the-gnoshery.com/wp-content/uploads/2024/12/SBy-Commander.png
END:VEVENT
BEGIN:VEVENT
DTSTART;TZID=America/Chicago:20310328T180000
DTEND;TZID=America/Chicago:20310328T210000
DTSTAMP:20260422T215559
CREATED:20241220T214147Z
LAST-MODIFIED:20260410T202728Z
UID:10009708-1932487200-1932498000@the-gnoshery.com
SUMMARY:Magic Commander Nights!
DESCRIPTION: Commander Nights are here! \nLooking for some casual fun with Magic: The Gathering? Join us every Monday & Friday from 6 PM – 9 PM for Commander Nights! \nGrab a bite to eat\, meet fellow planeswalkers\, and dive into epic Commander battles! Whether you’re a seasoned pro or just starting your journey\, it’s all about good vibes\, friendly competition\, and\, of course\, fun.\n Bring your favorite deck\, try something new\, or just watch the magic unfold. Great food\, great friends\, and great games await!\n See you there—let’s make some legendary memories!\n\nEntry Fee options: $5 Dollars\, a cafe purchase (food or beverage)\, or a Magic The Gathering purchase.
URL:https://the-gnoshery.com/event/magic-commander-nights/2031-03-28/
LOCATION:The Gnoshery\, 23 N. 3rd Ave\, STURGEON BAY\, WI\, 54235\, United States
CATEGORIES:Magic the Gathering
ATTACH;FMTTYPE=image/png:https://the-gnoshery.com/wp-content/uploads/2024/12/SBy-Commander.png
END:VEVENT
BEGIN:VEVENT
DTSTART;TZID=America/Chicago:20310331T180000
DTEND;TZID=America/Chicago:20310331T210000
DTSTAMP:20260422T215559
CREATED:20241220T214147Z
LAST-MODIFIED:20260410T202728Z
UID:10009709-1932746400-1932757200@the-gnoshery.com
SUMMARY:Magic Commander Nights!
DESCRIPTION: Commander Nights are here! \nLooking for some casual fun with Magic: The Gathering? Join us every Monday & Friday from 6 PM – 9 PM for Commander Nights! \nGrab a bite to eat\, meet fellow planeswalkers\, and dive into epic Commander battles! Whether you’re a seasoned pro or just starting your journey\, it’s all about good vibes\, friendly competition\, and\, of course\, fun.\n Bring your favorite deck\, try something new\, or just watch the magic unfold. Great food\, great friends\, and great games await!\n See you there—let’s make some legendary memories!\n\nEntry Fee options: $5 Dollars\, a cafe purchase (food or beverage)\, or a Magic The Gathering purchase.
URL:https://the-gnoshery.com/event/magic-commander-nights/2031-03-31/
LOCATION:The Gnoshery\, 23 N. 3rd Ave\, STURGEON BAY\, WI\, 54235\, United States
CATEGORIES:Magic the Gathering
ATTACH;FMTTYPE=image/png:https://the-gnoshery.com/wp-content/uploads/2024/12/SBy-Commander.png
END:VEVENT
BEGIN:VEVENT
DTSTART;TZID=America/Chicago:20310404T180000
DTEND;TZID=America/Chicago:20310404T210000
DTSTAMP:20260422T215559
CREATED:20241220T214147Z
LAST-MODIFIED:20260410T202728Z
UID:10009710-1933092000-1933102800@the-gnoshery.com
SUMMARY:Magic Commander Nights!
DESCRIPTION: Commander Nights are here! \nLooking for some casual fun with Magic: The Gathering? Join us every Monday & Friday from 6 PM – 9 PM for Commander Nights! \nGrab a bite to eat\, meet fellow planeswalkers\, and dive into epic Commander battles! Whether you’re a seasoned pro or just starting your journey\, it’s all about good vibes\, friendly competition\, and\, of course\, fun.\n Bring your favorite deck\, try something new\, or just watch the magic unfold. Great food\, great friends\, and great games await!\n See you there—let’s make some legendary memories!\n\nEntry Fee options: $5 Dollars\, a cafe purchase (food or beverage)\, or a Magic The Gathering purchase.
URL:https://the-gnoshery.com/event/magic-commander-nights/2031-04-04/
LOCATION:The Gnoshery\, 23 N. 3rd Ave\, STURGEON BAY\, WI\, 54235\, United States
CATEGORIES:Magic the Gathering
ATTACH;FMTTYPE=image/png:https://the-gnoshery.com/wp-content/uploads/2024/12/SBy-Commander.png
END:VEVENT
BEGIN:VEVENT
DTSTART;TZID=America/Chicago:20310407T180000
DTEND;TZID=America/Chicago:20310407T210000
DTSTAMP:20260422T215559
CREATED:20241220T214147Z
LAST-MODIFIED:20260410T202728Z
UID:10009711-1933351200-1933362000@the-gnoshery.com
SUMMARY:Magic Commander Nights!
DESCRIPTION: Commander Nights are here! \nLooking for some casual fun with Magic: The Gathering? Join us every Monday & Friday from 6 PM – 9 PM for Commander Nights! \nGrab a bite to eat\, meet fellow planeswalkers\, and dive into epic Commander battles! Whether you’re a seasoned pro or just starting your journey\, it’s all about good vibes\, friendly competition\, and\, of course\, fun.\n Bring your favorite deck\, try something new\, or just watch the magic unfold. Great food\, great friends\, and great games await!\n See you there—let’s make some legendary memories!\n\nEntry Fee options: $5 Dollars\, a cafe purchase (food or beverage)\, or a Magic The Gathering purchase.
URL:https://the-gnoshery.com/event/magic-commander-nights/2031-04-07/
LOCATION:The Gnoshery\, 23 N. 3rd Ave\, STURGEON BAY\, WI\, 54235\, United States
CATEGORIES:Magic the Gathering
ATTACH;FMTTYPE=image/png:https://the-gnoshery.com/wp-content/uploads/2024/12/SBy-Commander.png
END:VEVENT
BEGIN:VEVENT
DTSTART;TZID=America/Chicago:20310411T180000
DTEND;TZID=America/Chicago:20310411T210000
DTSTAMP:20260422T215559
CREATED:20241220T214147Z
LAST-MODIFIED:20260410T202728Z
UID:10009998-1933696800-1933707600@the-gnoshery.com
SUMMARY:Magic Commander Nights!
DESCRIPTION: Commander Nights are here! \nLooking for some casual fun with Magic: The Gathering? Join us every Monday & Friday from 6 PM – 9 PM for Commander Nights! \nGrab a bite to eat\, meet fellow planeswalkers\, and dive into epic Commander battles! Whether you’re a seasoned pro or just starting your journey\, it’s all about good vibes\, friendly competition\, and\, of course\, fun.\n Bring your favorite deck\, try something new\, or just watch the magic unfold. Great food\, great friends\, and great games await!\n See you there—let’s make some legendary memories!\n\nEntry Fee options: $5 Dollars\, a cafe purchase (food or beverage)\, or a Magic The Gathering purchase.
URL:https://the-gnoshery.com/event/magic-commander-nights/2031-04-11/
LOCATION:The Gnoshery\, 23 N. 3rd Ave\, STURGEON BAY\, WI\, 54235\, United States
CATEGORIES:Magic the Gathering
ATTACH;FMTTYPE=image/png:https://the-gnoshery.com/wp-content/uploads/2024/12/SBy-Commander.png
END:VEVENT
BEGIN:VEVENT
DTSTART;TZID=America/Chicago:20310414T180000
DTEND;TZID=America/Chicago:20310414T210000
DTSTAMP:20260422T215559
CREATED:20241220T214147Z
LAST-MODIFIED:20260410T202728Z
UID:10009999-1933956000-1933966800@the-gnoshery.com
SUMMARY:Magic Commander Nights!
DESCRIPTION: Commander Nights are here! \nLooking for some casual fun with Magic: The Gathering? Join us every Monday & Friday from 6 PM – 9 PM for Commander Nights! \nGrab a bite to eat\, meet fellow planeswalkers\, and dive into epic Commander battles! Whether you’re a seasoned pro or just starting your journey\, it’s all about good vibes\, friendly competition\, and\, of course\, fun.\n Bring your favorite deck\, try something new\, or just watch the magic unfold. Great food\, great friends\, and great games await!\n See you there—let’s make some legendary memories!\n\nEntry Fee options: $5 Dollars\, a cafe purchase (food or beverage)\, or a Magic The Gathering purchase.
URL:https://the-gnoshery.com/event/magic-commander-nights/2031-04-14/
LOCATION:The Gnoshery\, 23 N. 3rd Ave\, STURGEON BAY\, WI\, 54235\, United States
CATEGORIES:Magic the Gathering
ATTACH;FMTTYPE=image/png:https://the-gnoshery.com/wp-content/uploads/2024/12/SBy-Commander.png
END:VEVENT
BEGIN:VEVENT
DTSTART;TZID=America/Chicago:20310418T180000
DTEND;TZID=America/Chicago:20310418T210000
DTSTAMP:20260422T215559
CREATED:20241220T214147Z
LAST-MODIFIED:20260410T202728Z
UID:10010002-1934301600-1934312400@the-gnoshery.com
SUMMARY:Magic Commander Nights!
DESCRIPTION: Commander Nights are here! \nLooking for some casual fun with Magic: The Gathering? Join us every Monday & Friday from 6 PM – 9 PM for Commander Nights! \nGrab a bite to eat\, meet fellow planeswalkers\, and dive into epic Commander battles! Whether you’re a seasoned pro or just starting your journey\, it’s all about good vibes\, friendly competition\, and\, of course\, fun.\n Bring your favorite deck\, try something new\, or just watch the magic unfold. Great food\, great friends\, and great games await!\n See you there—let’s make some legendary memories!\n\nEntry Fee options: $5 Dollars\, a cafe purchase (food or beverage)\, or a Magic The Gathering purchase.
URL:https://the-gnoshery.com/event/magic-commander-nights/2031-04-18/
LOCATION:The Gnoshery\, 23 N. 3rd Ave\, STURGEON BAY\, WI\, 54235\, United States
CATEGORIES:Magic the Gathering
ATTACH;FMTTYPE=image/png:https://the-gnoshery.com/wp-content/uploads/2024/12/SBy-Commander.png
END:VEVENT
BEGIN:VEVENT
DTSTART;TZID=America/Chicago:20310421T180000
DTEND;TZID=America/Chicago:20310421T210000
DTSTAMP:20260422T215559
CREATED:20241220T214147Z
LAST-MODIFIED:20260410T202728Z
UID:10010004-1934560800-1934571600@the-gnoshery.com
SUMMARY:Magic Commander Nights!
DESCRIPTION: Commander Nights are here! \nLooking for some casual fun with Magic: The Gathering? Join us every Monday & Friday from 6 PM – 9 PM for Commander Nights! \nGrab a bite to eat\, meet fellow planeswalkers\, and dive into epic Commander battles! Whether you’re a seasoned pro or just starting your journey\, it’s all about good vibes\, friendly competition\, and\, of course\, fun.\n Bring your favorite deck\, try something new\, or just watch the magic unfold. Great food\, great friends\, and great games await!\n See you there—let’s make some legendary memories!\n\nEntry Fee options: $5 Dollars\, a cafe purchase (food or beverage)\, or a Magic The Gathering purchase.
URL:https://the-gnoshery.com/event/magic-commander-nights/2031-04-21/
LOCATION:The Gnoshery\, 23 N. 3rd Ave\, STURGEON BAY\, WI\, 54235\, United States
CATEGORIES:Magic the Gathering
ATTACH;FMTTYPE=image/png:https://the-gnoshery.com/wp-content/uploads/2024/12/SBy-Commander.png
END:VEVENT
END:VCALENDAR