BEGIN:VCALENDAR
VERSION:2.0
PRODID:-//The Gnoshery - ECPv6.15.20//NONSGML v1.0//EN
CALSCALE:GREGORIAN
METHOD:PUBLISH
X-ORIGINAL-URL:https://the-gnoshery.com
X-WR-CALDESC:Events for The Gnoshery
REFRESH-INTERVAL;VALUE=DURATION:PT1H
X-Robots-Tag:noindex
X-PUBLISHED-TTL:PT1H
BEGIN:VTIMEZONE
TZID:America/Chicago
BEGIN:DAYLIGHT
TZOFFSETFROM:-0600
TZOFFSETTO:-0500
TZNAME:CDT
DTSTART:20250309T080000
END:DAYLIGHT
BEGIN:STANDARD
TZOFFSETFROM:-0500
TZOFFSETTO:-0600
TZNAME:CST
DTSTART:20251102T070000
END:STANDARD
BEGIN:DAYLIGHT
TZOFFSETFROM:-0600
TZOFFSETTO:-0500
TZNAME:CDT
DTSTART:20260308T080000
END:DAYLIGHT
BEGIN:STANDARD
TZOFFSETFROM:-0500
TZOFFSETTO:-0600
TZNAME:CST
DTSTART:20261101T070000
END:STANDARD
BEGIN:DAYLIGHT
TZOFFSETFROM:-0600
TZOFFSETTO:-0500
TZNAME:CDT
DTSTART:20270314T080000
END:DAYLIGHT
BEGIN:STANDARD
TZOFFSETFROM:-0500
TZOFFSETTO:-0600
TZNAME:CST
DTSTART:20271107T070000
END:STANDARD
END:VTIMEZONE
BEGIN:VEVENT
DTSTART;TZID=America/Chicago:20260228T170000
DTEND;TZID=America/Chicago:20260228T210000
DTSTAMP:20260423T031146
CREATED:20260221T172407Z
LAST-MODIFIED:20260221T172409Z
UID:10008017-1772298000-1772312400@the-gnoshery.com
SUMMARY:D&D Learn to Play: Shadows Over Raven’s Bluff
DESCRIPTION:D&D Learn to Play: Shadows Over Raven’s Bluff \nStep into the City of Adventure! Have you ever wanted to play Dungeons & Dragons? Join us at The Gnoshery on Saturday\, February 28th\, for a special “Learn to Play” event set in the most famous metropolis of the Forgotten Realms: Raven’s Bluff. \nWhile the adventure is based on the classic Defiance in Phlan\, we are transporting the action to the crowded docks and noble estates of the Vast. The mysterious Cult of the Dragon has begun to infiltrate the city’s guilds and high society\, and Raven’s Bluff needs heroes to stand against them. \n\n\nDate: Saturday\, Feb 28 \n\n\nTime: 5:00 PM \n\n\nEntry: $10.00 \n\n\nNo Experience Needed: We provide the characters\, the dice\, and the Dungeon Master! \n\n\nYou’ll begin your journey at a local favorite—The Laughing Beholder or perhaps a quiet tea room in the Harbor District—where your first contact awaits. Whether you are working for the clandestine Harpers or the ambitious Zhentarim\, your choices will echo through the streets of Raven’s Bluff. \nSpaces are limited to ensure a great experience. Register ONLINE to secure your seat at the table!
URL:https://the-gnoshery.com/event/dd-learn-to-play-shadows-over-ravens-bluff/
LOCATION:The Gnoshery\, 23 N. 3rd Ave\, STURGEON BAY\, WI\, 54235\, United States
CATEGORIES:Casual Play,Dungeons And Dragons
ATTACH;FMTTYPE=image/png:https://the-gnoshery.com/wp-content/uploads/2026/02/Pokemon-League-Challenge-1.png
END:VEVENT
END:VCALENDAR